BEGIN:VCALENDAR
VERSION:2.0
PRODID:-//Linda Spahlinger - ECPv6.15.13.1//NONSGML v1.0//EN
CALSCALE:GREGORIAN
METHOD:PUBLISH
X-WR-CALNAME:Linda Spahlinger
X-ORIGINAL-URL:https://linda-spahlinger.com
X-WR-CALDESC:Veranstaltungen für Linda Spahlinger
REFRESH-INTERVAL;VALUE=DURATION:PT1H
X-Robots-Tag:noindex
X-PUBLISHED-TTL:PT1H
BEGIN:VTIMEZONE
TZID:Europe/Berlin
BEGIN:DAYLIGHT
TZOFFSETFROM:+0100
TZOFFSETTO:+0200
TZNAME:CEST
DTSTART:20240331T010000
END:DAYLIGHT
BEGIN:STANDARD
TZOFFSETFROM:+0200
TZOFFSETTO:+0100
TZNAME:CET
DTSTART:20241027T010000
END:STANDARD
BEGIN:DAYLIGHT
TZOFFSETFROM:+0100
TZOFFSETTO:+0200
TZNAME:CEST
DTSTART:20250330T010000
END:DAYLIGHT
BEGIN:STANDARD
TZOFFSETFROM:+0200
TZOFFSETTO:+0100
TZNAME:CET
DTSTART:20251026T010000
END:STANDARD
BEGIN:DAYLIGHT
TZOFFSETFROM:+0100
TZOFFSETTO:+0200
TZNAME:CEST
DTSTART:20260329T010000
END:DAYLIGHT
BEGIN:STANDARD
TZOFFSETFROM:+0200
TZOFFSETTO:+0100
TZNAME:CET
DTSTART:20261025T010000
END:STANDARD
END:VTIMEZONE
BEGIN:VEVENT
DTSTART;TZID=Europe/Berlin:20251101T100000
DTEND;TZID=Europe/Berlin:20251101T120000
DTSTAMP:20260420T004703
CREATED:20251024T180018Z
LAST-MODIFIED:20251023T184337Z
UID:5186-1761991200-1761998400@linda-spahlinger.com
SUMMARY:Mantrailing - M -
DESCRIPTION:Freu dich auf:\nMantrailing Training mit jeweils 2 Mensch-Hund-Teams.\nJedes Team darf sich auf zwei individuelle Trails freuen. \nTreffpunkt:\nDen genauen Treffpunkt gebe ich dir nach deiner Anmeldung rechtzeitig per WhatsApp durch. \nDeine Anmeldung:\nBitte melde dich bis spätestens 1 Woche vorher an. \nPreis\n10er Karte 370€ (einzeln 40€ je Training)
URL:https://linda-spahlinger.com/termin/mantrailing-m-354/
LOCATION:Wechselnde Orte auf den FIldern
CATEGORIES:Mantrailing Training
ATTACH;FMTTYPE=image/jpeg:https://linda-spahlinger.com/wp-content/uploads/2022/10/mantrailing-training.jpg
ORGANIZER;CN="Linda Spahlinger":MAILTO:post@linda-spahlinger.com
END:VEVENT
BEGIN:VEVENT
DTSTART;TZID=Europe/Berlin:20251104T110000
DTEND;TZID=Europe/Berlin:20251104T130000
DTSTAMP:20260420T004703
CREATED:20251024T180042Z
LAST-MODIFIED:20251023T184610Z
UID:5625-1762254000-1762261200@linda-spahlinger.com
SUMMARY:Mantrailing - L -
DESCRIPTION:Freu dich auf:\nMantrailing Training mit jeweils 2 Mensch-Hund-Teams.\nJedes Team darf sich auf zwei individuelle Trails freuen. \nTreffpunkt:\nDen genauen Treffpunkt gebe ich dir nach deiner Anmeldung rechtzeitig per WhatsApp durch. \nDeine Anmeldung:\nBitte melde dich bis spätestens 1 Woche vorher an. \nPreis\n10er Karte 370€ (einzeln 40€ je Training)
URL:https://linda-spahlinger.com/termin/mantrailing-l-179/
LOCATION:Wechselnde Orte auf den FIldern
CATEGORIES:Mantrailing Training
ATTACH;FMTTYPE=image/jpeg:https://linda-spahlinger.com/wp-content/uploads/2022/10/mantrailing-training.jpg
ORGANIZER;CN="Linda Spahlinger":MAILTO:post@linda-spahlinger.com
END:VEVENT
BEGIN:VEVENT
DTSTART;TZID=Europe/Berlin:20251106T170000
DTEND;TZID=Europe/Berlin:20251106T190000
DTSTAMP:20260420T004703
CREATED:20251024T180016Z
LAST-MODIFIED:20251023T185140Z
UID:5629-1762448400-1762455600@linda-spahlinger.com
SUMMARY:Mantrailing - M -
DESCRIPTION:Freu dich auf:\nMantrailing Training mit jeweils 2 Mensch-Hund-Teams.\nJedes Team darf sich auf zwei individuelle Trails freuen. \nTreffpunkt:\nDen genauen Treffpunkt gebe ich dir nach deiner Anmeldung rechtzeitig per WhatsApp durch. \nDeine Anmeldung:\nBitte melde dich bis spätestens 1 Woche vorher an. \nPreis\n10er Karte 370€ (einzeln 40€ je Training)
URL:https://linda-spahlinger.com/termin/mantrailing-m-360/
LOCATION:Wechselnde Orte auf den FIldern
CATEGORIES:Mantrailing Training
ATTACH;FMTTYPE=image/jpeg:https://linda-spahlinger.com/wp-content/uploads/2022/10/mantrailing-training.jpg
ORGANIZER;CN="Linda Spahlinger":MAILTO:post@linda-spahlinger.com
END:VEVENT
BEGIN:VEVENT
DTSTART;TZID=Europe/Berlin:20251107T100000
DTEND;TZID=Europe/Berlin:20251107T120000
DTSTAMP:20260420T004703
CREATED:20251024T180025Z
LAST-MODIFIED:20251023T185352Z
UID:5631-1762509600-1762516800@linda-spahlinger.com
SUMMARY:Mantrailing - L -
DESCRIPTION:Freu dich auf:\nMantrailing Training mit jeweils 2 Mensch-Hund-Teams.\nJedes Team darf sich auf zwei individuelle Trails freuen. \nTreffpunkt:\nDen genauen Treffpunkt gebe ich dir nach deiner Anmeldung rechtzeitig per WhatsApp durch. \nDeine Anmeldung:\nBitte melde dich bis spätestens 1 Woche vorher an. \nPreis\n10er Karte 370€ (einzeln 40€ je Training)
URL:https://linda-spahlinger.com/termin/mantrailing-l-182/
LOCATION:Wechselnde Orte auf den FIldern
CATEGORIES:Mantrailing Training
ATTACH;FMTTYPE=image/jpeg:https://linda-spahlinger.com/wp-content/uploads/2022/10/mantrailing-training.jpg
ORGANIZER;CN="Linda Spahlinger":MAILTO:post@linda-spahlinger.com
END:VEVENT
BEGIN:VEVENT
DTSTART;TZID=Europe/Berlin:20251108T100000
DTEND;TZID=Europe/Berlin:20251108T120000
DTSTAMP:20260420T004703
CREATED:20251024T180006Z
LAST-MODIFIED:20251023T185742Z
UID:5633-1762596000-1762603200@linda-spahlinger.com
SUMMARY:Mantrailing - M -
DESCRIPTION:Freu dich auf:\nMantrailing Training mit jeweils 2 Mensch-Hund-Teams.\nJedes Team darf sich auf zwei individuelle Trails freuen. \nTreffpunkt:\nDen genauen Treffpunkt gebe ich dir nach deiner Anmeldung rechtzeitig per WhatsApp durch. \nDeine Anmeldung:\nBitte melde dich bis spätestens 1 Woche vorher an. \nPreis\n10er Karte 370€ (einzeln 40€ je Training)
URL:https://linda-spahlinger.com/termin/mantrailing-m-387/
LOCATION:Wechselnde Orte auf den FIldern
CATEGORIES:Mantrailing Training
ATTACH;FMTTYPE=image/jpeg:https://linda-spahlinger.com/wp-content/uploads/2022/10/mantrailing-training.jpg
ORGANIZER;CN="Linda Spahlinger":MAILTO:post@linda-spahlinger.com
END:VEVENT
BEGIN:VEVENT
DTSTART;TZID=Europe/Berlin:20251112T100000
DTEND;TZID=Europe/Berlin:20251112T120000
DTSTAMP:20260420T004703
CREATED:20251024T180030Z
LAST-MODIFIED:20251023T185655Z
UID:5635-1762941600-1762948800@linda-spahlinger.com
SUMMARY:Mantrailing - L -
DESCRIPTION:Freu dich auf:\nMantrailing Training mit jeweils 2 Mensch-Hund-Teams.\nJedes Team darf sich auf zwei individuelle Trails freuen. \nTreffpunkt:\nDen genauen Treffpunkt gebe ich dir nach deiner Anmeldung rechtzeitig per WhatsApp durch. \nDeine Anmeldung:\nBitte melde dich bis spätestens 1 Woche vorher an. \nPreis\n10er Karte 370€ (einzeln 40€ je Training)
URL:https://linda-spahlinger.com/termin/mantrailing-l-183/
LOCATION:Wechselnde Orte auf den FIldern
CATEGORIES:Mantrailing Training
ATTACH;FMTTYPE=image/jpeg:https://linda-spahlinger.com/wp-content/uploads/2022/10/mantrailing-training.jpg
ORGANIZER;CN="Linda Spahlinger":MAILTO:post@linda-spahlinger.com
END:VEVENT
BEGIN:VEVENT
DTSTART;TZID=Europe/Berlin:20251113T100000
DTEND;TZID=Europe/Berlin:20251113T120000
DTSTAMP:20260420T004703
CREATED:20251024T180017Z
LAST-MODIFIED:20251023T185939Z
UID:5637-1763028000-1763035200@linda-spahlinger.com
SUMMARY:Mantrailing - M -
DESCRIPTION:Freu dich auf:\nMantrailing Training mit jeweils 2 Mensch-Hund-Teams.\nJedes Team darf sich auf zwei individuelle Trails freuen. \nTreffpunkt:\nDen genauen Treffpunkt gebe ich dir nach deiner Anmeldung rechtzeitig per WhatsApp durch. \nDeine Anmeldung:\nBitte melde dich bis spätestens 1 Woche vorher an. \nPreis\n10er Karte 370€ (einzeln 40€ je Training)
URL:https://linda-spahlinger.com/termin/mantrailing-m-389/
LOCATION:Wechselnde Orte auf den FIldern
CATEGORIES:Mantrailing Training
ATTACH;FMTTYPE=image/jpeg:https://linda-spahlinger.com/wp-content/uploads/2022/10/mantrailing-training.jpg
ORGANIZER;CN="Linda Spahlinger":MAILTO:post@linda-spahlinger.com
END:VEVENT
BEGIN:VEVENT
DTSTART;TZID=Europe/Berlin:20251113T150000
DTEND;TZID=Europe/Berlin:20251113T170000
DTSTAMP:20260420T004703
CREATED:20251024T180021Z
LAST-MODIFIED:20251023T190037Z
UID:5639-1763046000-1763053200@linda-spahlinger.com
SUMMARY:Mantrailing - M -
DESCRIPTION:Freu dich auf:\nMantrailing Training mit jeweils 2 Mensch-Hund-Teams.\nJedes Team darf sich auf zwei individuelle Trails freuen. \nTreffpunkt:\nDen genauen Treffpunkt gebe ich dir nach deiner Anmeldung rechtzeitig per WhatsApp durch. \nDeine Anmeldung:\nBitte melde dich bis spätestens 1 Woche vorher an. \nPreis\n10er Karte 370€ (einzeln 40€ je Training)
URL:https://linda-spahlinger.com/termin/mantrailing-m-390/
LOCATION:Wechselnde Orte auf den FIldern
CATEGORIES:Mantrailing Training
ATTACH;FMTTYPE=image/jpeg:https://linda-spahlinger.com/wp-content/uploads/2022/10/mantrailing-training.jpg
ORGANIZER;CN="Linda Spahlinger":MAILTO:post@linda-spahlinger.com
END:VEVENT
BEGIN:VEVENT
DTSTART;TZID=Europe/Berlin:20251115T100000
DTEND;TZID=Europe/Berlin:20251115T120000
DTSTAMP:20260420T004703
CREATED:20251024T180029Z
LAST-MODIFIED:20251023T190357Z
UID:5643-1763200800-1763208000@linda-spahlinger.com
SUMMARY:Mantrailing - M -
DESCRIPTION:Freu dich auf:\nMantrailing Training mit jeweils 2 Mensch-Hund-Teams.\nJedes Team darf sich auf zwei individuelle Trails freuen. \nTreffpunkt:\nDen genauen Treffpunkt gebe ich dir nach deiner Anmeldung rechtzeitig per WhatsApp durch. \nDeine Anmeldung:\nBitte melde dich bis spätestens 1 Woche vorher an. \nPreis\n10er Karte 370€ (einzeln 40€ je Training)
URL:https://linda-spahlinger.com/termin/mantrailing-m-392/
LOCATION:Wechselnde Orte auf den FIldern
CATEGORIES:Mantrailing Training
ATTACH;FMTTYPE=image/jpeg:https://linda-spahlinger.com/wp-content/uploads/2022/10/mantrailing-training.jpg
ORGANIZER;CN="Linda Spahlinger":MAILTO:post@linda-spahlinger.com
END:VEVENT
BEGIN:VEVENT
DTSTART;TZID=Europe/Berlin:20251115T140000
DTEND;TZID=Europe/Berlin:20251115T160000
DTSTAMP:20260420T004703
CREATED:20251024T180055Z
LAST-MODIFIED:20251023T190719Z
UID:5647-1763215200-1763222400@linda-spahlinger.com
SUMMARY:Mantrailing - M -
DESCRIPTION:Freu dich auf:\nMantrailing Training mit jeweils 2 Mensch-Hund-Teams.\nJedes Team darf sich auf zwei individuelle Trails freuen. \nTreffpunkt:\nDen genauen Treffpunkt gebe ich dir nach deiner Anmeldung rechtzeitig per WhatsApp durch. \nDeine Anmeldung:\nBitte melde dich bis spätestens 1 Woche vorher an. \nPreis\n10er Karte 370€ (einzeln 40€ je Training)
URL:https://linda-spahlinger.com/termin/mantrailing-m-394/
LOCATION:Wechselnde Orte auf den FIldern
CATEGORIES:Mantrailing Training
ATTACH;FMTTYPE=image/jpeg:https://linda-spahlinger.com/wp-content/uploads/2022/10/mantrailing-training.jpg
ORGANIZER;CN="Linda Spahlinger":MAILTO:post@linda-spahlinger.com
END:VEVENT
BEGIN:VEVENT
DTSTART;TZID=Europe/Berlin:20251116T100000
DTEND;TZID=Europe/Berlin:20251116T120000
DTSTAMP:20260420T004703
CREATED:20251024T180017Z
LAST-MODIFIED:20251023T190617Z
UID:5645-1763287200-1763294400@linda-spahlinger.com
SUMMARY:Mantrailing - M -
DESCRIPTION:Freu dich auf:\nMantrailing Training mit jeweils 2 Mensch-Hund-Teams.\nJedes Team darf sich auf zwei individuelle Trails freuen. \nTreffpunkt:\nDen genauen Treffpunkt gebe ich dir nach deiner Anmeldung rechtzeitig per WhatsApp durch. \nDeine Anmeldung:\nBitte melde dich bis spätestens 1 Woche vorher an. \nPreis\n10er Karte 370€ (einzeln 40€ je Training)
URL:https://linda-spahlinger.com/termin/mantrailing-m-393/
LOCATION:Wechselnde Orte auf den FIldern
CATEGORIES:Mantrailing Training
ATTACH;FMTTYPE=image/jpeg:https://linda-spahlinger.com/wp-content/uploads/2022/10/mantrailing-training.jpg
ORGANIZER;CN="Linda Spahlinger":MAILTO:post@linda-spahlinger.com
END:VEVENT
BEGIN:VEVENT
DTSTART;TZID=Europe/Berlin:20251118T110000
DTEND;TZID=Europe/Berlin:20251118T130000
DTSTAMP:20260420T004703
CREATED:20251024T180029Z
LAST-MODIFIED:20251023T190921Z
UID:5649-1763463600-1763470800@linda-spahlinger.com
SUMMARY:Mantrailing - L -
DESCRIPTION:Freu dich auf:\nMantrailing Training mit jeweils 2 Mensch-Hund-Teams.\nJedes Team darf sich auf zwei individuelle Trails freuen. \nTreffpunkt:\nDen genauen Treffpunkt gebe ich dir nach deiner Anmeldung rechtzeitig per WhatsApp durch. \nDeine Anmeldung:\nBitte melde dich bis spätestens 1 Woche vorher an. \nPreis\n10er Karte 370€ (einzeln 40€ je Training)
URL:https://linda-spahlinger.com/termin/mantrailing-l-184/
LOCATION:Wechselnde Orte auf den FIldern
CATEGORIES:Mantrailing Training
ATTACH;FMTTYPE=image/jpeg:https://linda-spahlinger.com/wp-content/uploads/2022/10/mantrailing-training.jpg
ORGANIZER;CN="Linda Spahlinger":MAILTO:post@linda-spahlinger.com
END:VEVENT
BEGIN:VEVENT
DTSTART;TZID=Europe/Berlin:20251119T150000
DTEND;TZID=Europe/Berlin:20251119T170000
DTSTAMP:20260420T004703
CREATED:20251024T180053Z
LAST-MODIFIED:20251023T191726Z
UID:5653-1763564400-1763571600@linda-spahlinger.com
SUMMARY:Mantrailing - M -
DESCRIPTION:Freu dich auf:\nMantrailing Training mit jeweils 2 Mensch-Hund-Teams.\nJedes Team darf sich auf zwei individuelle Trails freuen. \nTreffpunkt:\nDen genauen Treffpunkt gebe ich dir nach deiner Anmeldung rechtzeitig per WhatsApp durch. \nDeine Anmeldung:\nBitte melde dich bis spätestens 1 Woche vorher an. \nPreis\n10er Karte 370€ (einzeln 40€ je Training)
URL:https://linda-spahlinger.com/termin/mantrailing-m-396/
LOCATION:Wechselnde Orte auf den FIldern
CATEGORIES:Mantrailing Training
ATTACH;FMTTYPE=image/jpeg:https://linda-spahlinger.com/wp-content/uploads/2022/10/mantrailing-training.jpg
ORGANIZER;CN="Linda Spahlinger":MAILTO:post@linda-spahlinger.com
END:VEVENT
BEGIN:VEVENT
DTSTART;TZID=Europe/Berlin:20251120T100000
DTEND;TZID=Europe/Berlin:20251120T120000
DTSTAMP:20260420T004703
CREATED:20251024T180006Z
LAST-MODIFIED:20251023T191450Z
UID:5651-1763632800-1763640000@linda-spahlinger.com
SUMMARY:Mantrailing - M -
DESCRIPTION:Freu dich auf:\nMantrailing Training mit jeweils 2 Mensch-Hund-Teams.\nJedes Team darf sich auf zwei individuelle Trails freuen. \nTreffpunkt:\nDen genauen Treffpunkt gebe ich dir nach deiner Anmeldung rechtzeitig per WhatsApp durch. \nDeine Anmeldung:\nBitte melde dich bis spätestens 1 Woche vorher an. \nPreis\n10er Karte 370€ (einzeln 40€ je Training)
URL:https://linda-spahlinger.com/termin/mantrailing-m-395/
LOCATION:Wechselnde Orte auf den FIldern
CATEGORIES:Mantrailing Training
ATTACH;FMTTYPE=image/jpeg:https://linda-spahlinger.com/wp-content/uploads/2022/10/mantrailing-training.jpg
ORGANIZER;CN="Linda Spahlinger":MAILTO:post@linda-spahlinger.com
END:VEVENT
BEGIN:VEVENT
DTSTART;TZID=Europe/Berlin:20251120T170000
DTEND;TZID=Europe/Berlin:20251120T190000
DTSTAMP:20260420T004703
CREATED:20251024T180059Z
LAST-MODIFIED:20251023T192023Z
UID:5655-1763658000-1763665200@linda-spahlinger.com
SUMMARY:Mantrailing - M -
DESCRIPTION:Freu dich auf:\nMantrailing Training mit jeweils 2 Mensch-Hund-Teams.\nJedes Team darf sich auf zwei individuelle Trails freuen. \nTreffpunkt:\nDen genauen Treffpunkt gebe ich dir nach deiner Anmeldung rechtzeitig per WhatsApp durch. \nDeine Anmeldung:\nBitte melde dich bis spätestens 1 Woche vorher an. \nPreis\n10er Karte 370€ (einzeln 40€ je Training)
URL:https://linda-spahlinger.com/termin/mantrailing-m-397/
LOCATION:Wechselnde Orte auf den FIldern
CATEGORIES:Mantrailing Training
ATTACH;FMTTYPE=image/jpeg:https://linda-spahlinger.com/wp-content/uploads/2022/10/mantrailing-training.jpg
ORGANIZER;CN="Linda Spahlinger":MAILTO:post@linda-spahlinger.com
END:VEVENT
BEGIN:VEVENT
DTSTART;TZID=Europe/Berlin:20251121T100000
DTEND;TZID=Europe/Berlin:20251121T120000
DTSTAMP:20260420T004703
CREATED:20251024T180012Z
LAST-MODIFIED:20251023T192237Z
UID:5657-1763719200-1763726400@linda-spahlinger.com
SUMMARY:Mantrailing - M -
DESCRIPTION:Freu dich auf:\nMantrailing Training mit jeweils 2 Mensch-Hund-Teams.\nJedes Team darf sich auf zwei individuelle Trails freuen. \nTreffpunkt:\nDen genauen Treffpunkt gebe ich dir nach deiner Anmeldung rechtzeitig per WhatsApp durch. \nDeine Anmeldung:\nBitte melde dich bis spätestens 1 Woche vorher an. \nPreis\n10er Karte 370€ (einzeln 40€ je Training)
URL:https://linda-spahlinger.com/termin/mantrailing-m-398/
LOCATION:Wechselnde Orte auf den FIldern
CATEGORIES:Mantrailing Training
ATTACH;FMTTYPE=image/jpeg:https://linda-spahlinger.com/wp-content/uploads/2022/10/mantrailing-training.jpg
ORGANIZER;CN="Linda Spahlinger":MAILTO:post@linda-spahlinger.com
END:VEVENT
BEGIN:VEVENT
DTSTART;TZID=Europe/Berlin:20251122T100000
DTEND;TZID=Europe/Berlin:20251122T120000
DTSTAMP:20260420T004703
CREATED:20251024T180045Z
LAST-MODIFIED:20251023T192453Z
UID:5659-1763805600-1763812800@linda-spahlinger.com
SUMMARY:Mantrailing - M -
DESCRIPTION:Freu dich auf:\nMantrailing Training mit jeweils 2 Mensch-Hund-Teams.\nJedes Team darf sich auf zwei individuelle Trails freuen. \nTreffpunkt:\nDen genauen Treffpunkt gebe ich dir nach deiner Anmeldung rechtzeitig per WhatsApp durch. \nDeine Anmeldung:\nBitte melde dich bis spätestens 1 Woche vorher an. \nPreis\n10er Karte 370€ (einzeln 40€ je Training)
URL:https://linda-spahlinger.com/termin/mantrailing-m-399/
LOCATION:Wechselnde Orte auf den FIldern
CATEGORIES:Mantrailing Training
ATTACH;FMTTYPE=image/jpeg:https://linda-spahlinger.com/wp-content/uploads/2022/10/mantrailing-training.jpg
ORGANIZER;CN="Linda Spahlinger":MAILTO:post@linda-spahlinger.com
END:VEVENT
END:VCALENDAR