BEGIN:VCALENDAR
VERSION:2.0
PRODID:-//Linda Spahlinger - ECPv6.15.13.1//NONSGML v1.0//EN
CALSCALE:GREGORIAN
METHOD:PUBLISH
X-ORIGINAL-URL:https://linda-spahlinger.com
X-WR-CALDESC:Veranstaltungen für Linda Spahlinger
REFRESH-INTERVAL;VALUE=DURATION:PT1H
X-Robots-Tag:noindex
X-PUBLISHED-TTL:PT1H
BEGIN:VTIMEZONE
TZID:Europe/Berlin
BEGIN:DAYLIGHT
TZOFFSETFROM:+0100
TZOFFSETTO:+0200
TZNAME:CEST
DTSTART:20240331T010000
END:DAYLIGHT
BEGIN:STANDARD
TZOFFSETFROM:+0200
TZOFFSETTO:+0100
TZNAME:CET
DTSTART:20241027T010000
END:STANDARD
BEGIN:DAYLIGHT
TZOFFSETFROM:+0100
TZOFFSETTO:+0200
TZNAME:CEST
DTSTART:20250330T010000
END:DAYLIGHT
BEGIN:STANDARD
TZOFFSETFROM:+0200
TZOFFSETTO:+0100
TZNAME:CET
DTSTART:20251026T010000
END:STANDARD
BEGIN:DAYLIGHT
TZOFFSETFROM:+0100
TZOFFSETTO:+0200
TZNAME:CEST
DTSTART:20260329T010000
END:DAYLIGHT
BEGIN:STANDARD
TZOFFSETFROM:+0200
TZOFFSETTO:+0100
TZNAME:CET
DTSTART:20261025T010000
END:STANDARD
END:VTIMEZONE
BEGIN:VEVENT
DTSTART;TZID=Europe/Berlin:20250701T110000
DTEND;TZID=Europe/Berlin:20250701T130000
DTSTAMP:20260419T180632
CREATED:20250620T180042Z
LAST-MODIFIED:20250618T140706Z
UID:5289-1751367600-1751374800@linda-spahlinger.com
SUMMARY:Mantrailing - L -
DESCRIPTION:Freu dich auf:\nMantrailing Training mit jeweils 2 Mensch-Hund-Teams.\nJedes Team darf sich auf zwei individuelle Trails freuen. \nTreffpunkt:\nDen genauen Treffpunkt gebe ich dir nach deiner Anmeldung rechtzeitig per WhatsApp durch. \nDeine Anmeldung:\nBitte melde dich bis spätestens 1 Woche vorher an. \nPreis\n10er Karte 370€ (einzeln 40€ je Training)
URL:https://linda-spahlinger.com/termin/mantrailing-l-157/
LOCATION:Wechselnde Orte auf den FIldern
CATEGORIES:Mantrailing Training
ATTACH;FMTTYPE=image/jpeg:https://linda-spahlinger.com/wp-content/uploads/2022/10/mantrailing-training.jpg
ORGANIZER;CN="Linda Spahlinger":MAILTO:post@linda-spahlinger.com
END:VEVENT
BEGIN:VEVENT
DTSTART;TZID=Europe/Berlin:20250702T100000
DTEND;TZID=Europe/Berlin:20250702T120000
DTSTAMP:20260419T180632
CREATED:20250620T180008Z
LAST-MODIFIED:20250620T190649Z
UID:5291-1751450400-1751457600@linda-spahlinger.com
SUMMARY:Mantrailing - L -
DESCRIPTION:Freu dich auf:\nMantrailing Training mit jeweils 2 Mensch-Hund-Teams.\nJedes Team darf sich auf zwei individuelle Trails freuen. \nTreffpunkt:\nDen genauen Treffpunkt gebe ich dir nach deiner Anmeldung rechtzeitig per WhatsApp durch. \nDeine Anmeldung:\nBitte melde dich bis spätestens 1 Woche vorher an. \nPreis\n10er Karte 370€ (einzeln 40€ je Training)
URL:https://linda-spahlinger.com/termin/mantrailing-l-158/
LOCATION:Wechselnde Orte auf den FIldern
CATEGORIES:Mantrailing Training
ATTACH;FMTTYPE=image/jpeg:https://linda-spahlinger.com/wp-content/uploads/2022/10/mantrailing-training.jpg
ORGANIZER;CN="Linda Spahlinger":MAILTO:post@linda-spahlinger.com
END:VEVENT
BEGIN:VEVENT
DTSTART;TZID=Europe/Berlin:20250702T100000
DTEND;TZID=Europe/Berlin:20250702T120000
DTSTAMP:20260419T180632
CREATED:20250620T180021Z
LAST-MODIFIED:20250618T195745Z
UID:5370-1751450400-1751457600@linda-spahlinger.com
SUMMARY:Mantrailing - M -
DESCRIPTION:Freu dich auf:\nMantrailing Training mit jeweils 2 Mensch-Hund-Teams.\nJedes Team darf sich auf zwei individuelle Trails freuen. \nTreffpunkt:\nDen genauen Treffpunkt gebe ich dir nach deiner Anmeldung rechtzeitig per WhatsApp durch. \nDeine Anmeldung:\nBitte melde dich bis spätestens 1 Woche vorher an. \nPreis\n10er Karte 370€ (einzeln 40€ je Training)
URL:https://linda-spahlinger.com/termin/mantrailing-m-340/
LOCATION:Wechselnde Orte auf den FIldern
CATEGORIES:Mantrailing Training
ATTACH;FMTTYPE=image/jpeg:https://linda-spahlinger.com/wp-content/uploads/2022/10/mantrailing-training.jpg
ORGANIZER;CN="Linda Spahlinger":MAILTO:post@linda-spahlinger.com
END:VEVENT
BEGIN:VEVENT
DTSTART;TZID=Europe/Berlin:20250702T170000
DTEND;TZID=Europe/Berlin:20250702T190000
DTSTAMP:20260419T180632
CREATED:20250620T180034Z
LAST-MODIFIED:20250618T140954Z
UID:5293-1751475600-1751482800@linda-spahlinger.com
SUMMARY:Mantrailing - M -
DESCRIPTION:Freu dich auf:\nMantrailing Training mit jeweils 2 Mensch-Hund-Teams.\nJedes Team darf sich auf zwei individuelle Trails freuen. \nTreffpunkt:\nDen genauen Treffpunkt gebe ich dir nach deiner Anmeldung rechtzeitig per WhatsApp durch. \nDeine Anmeldung:\nBitte melde dich bis spätestens 1 Woche vorher an. \nPreis\n10er Karte 370€ (einzeln 40€ je Training)
URL:https://linda-spahlinger.com/termin/mantrailing-m-313/
LOCATION:Wechselnde Orte auf den FIldern
CATEGORIES:Mantrailing Training
ATTACH;FMTTYPE=image/jpeg:https://linda-spahlinger.com/wp-content/uploads/2022/10/mantrailing-training.jpg
ORGANIZER;CN="Linda Spahlinger":MAILTO:post@linda-spahlinger.com
END:VEVENT
BEGIN:VEVENT
DTSTART;TZID=Europe/Berlin:20250703T180000
DTEND;TZID=Europe/Berlin:20250703T200000
DTSTAMP:20260419T180632
CREATED:20250620T180057Z
LAST-MODIFIED:20250618T200031Z
UID:5295-1751565600-1751572800@linda-spahlinger.com
SUMMARY:Mantrailing - M -
DESCRIPTION:Freu dich auf:\nMantrailing Training mit jeweils 2 Mensch-Hund-Teams.\nJedes Team darf sich auf zwei individuelle Trails freuen. \nTreffpunkt:\nDen genauen Treffpunkt gebe ich dir nach deiner Anmeldung rechtzeitig per WhatsApp durch. \nDeine Anmeldung:\nBitte melde dich bis spätestens 1 Woche vorher an. \nPreis\n10er Karte 370€ (einzeln 40€ je Training)
URL:https://linda-spahlinger.com/termin/mantrailing-m-341/
LOCATION:Wechselnde Orte auf den FIldern
CATEGORIES:Mantrailing Training
ATTACH;FMTTYPE=image/jpeg:https://linda-spahlinger.com/wp-content/uploads/2022/10/mantrailing-training.jpg
ORGANIZER;CN="Linda Spahlinger":MAILTO:post@linda-spahlinger.com
END:VEVENT
BEGIN:VEVENT
DTSTART;TZID=Europe/Berlin:20250704T100000
DTEND;TZID=Europe/Berlin:20250704T100000
DTSTAMP:20260419T180632
CREATED:20250620T180001Z
LAST-MODIFIED:20250618T141524Z
UID:5297-1751623200-1751623200@linda-spahlinger.com
SUMMARY:Mantrailing - M -
DESCRIPTION:Freu dich auf:\nMantrailing Training mit jeweils 2 Mensch-Hund-Teams.\nJedes Team darf sich auf zwei individuelle Trails freuen. \nTreffpunkt:\nDen genauen Treffpunkt gebe ich dir nach deiner Anmeldung rechtzeitig per WhatsApp durch. \nDeine Anmeldung:\nBitte melde dich bis spätestens 1 Woche vorher an. \nPreis\n10er Karte 370€ (einzeln 40€ je Training)
URL:https://linda-spahlinger.com/termin/mantrailing-m-317/
LOCATION:Wechselnde Orte auf den FIldern
CATEGORIES:Mantrailing Training
ATTACH;FMTTYPE=image/jpeg:https://linda-spahlinger.com/wp-content/uploads/2022/10/mantrailing-training.jpg
ORGANIZER;CN="Linda Spahlinger":MAILTO:post@linda-spahlinger.com
END:VEVENT
BEGIN:VEVENT
DTSTART;TZID=Europe/Berlin:20250705T100000
DTEND;TZID=Europe/Berlin:20250705T100000
DTSTAMP:20260419T180632
CREATED:20250620T180056Z
LAST-MODIFIED:20250620T192902Z
UID:5299-1751709600-1751709600@linda-spahlinger.com
SUMMARY:Mantrailing - M -
DESCRIPTION:Freu dich auf:\nMantrailing Training mit jeweils 2 Mensch-Hund-Teams.\nJedes Team darf sich auf zwei individuelle Trails freuen. \nTreffpunkt:\nDen genauen Treffpunkt gebe ich dir nach deiner Anmeldung rechtzeitig per WhatsApp durch. \nDeine Anmeldung:\nBitte melde dich bis spätestens 1 Woche vorher an. \nPreis\n10er Karte 370€ (einzeln 40€ je Training)
URL:https://linda-spahlinger.com/termin/mantrailing-m-318/
LOCATION:Wechselnde Orte auf den FIldern
CATEGORIES:Mantrailing Training
ATTACH;FMTTYPE=image/jpeg:https://linda-spahlinger.com/wp-content/uploads/2022/10/mantrailing-training.jpg
ORGANIZER;CN="Linda Spahlinger":MAILTO:post@linda-spahlinger.com
END:VEVENT
BEGIN:VEVENT
DTSTART;TZID=Europe/Berlin:20250706T100000
DTEND;TZID=Europe/Berlin:20250706T100000
DTSTAMP:20260419T180632
CREATED:20250620T180049Z
LAST-MODIFIED:20250618T141709Z
UID:5301-1751796000-1751796000@linda-spahlinger.com
SUMMARY:Mantrailing - M -
DESCRIPTION:Freu dich auf:\nMantrailing Training mit jeweils 2 Mensch-Hund-Teams.\nJedes Team darf sich auf zwei individuelle Trails freuen. \nTreffpunkt:\nDen genauen Treffpunkt gebe ich dir nach deiner Anmeldung rechtzeitig per WhatsApp durch. \nDeine Anmeldung:\nBitte melde dich bis spätestens 1 Woche vorher an. \nPreis\n10er Karte 370€ (einzeln 40€ je Training)
URL:https://linda-spahlinger.com/termin/mantrailing-m-319/
LOCATION:Wechselnde Orte auf den FIldern
CATEGORIES:Mantrailing Training
ATTACH;FMTTYPE=image/jpeg:https://linda-spahlinger.com/wp-content/uploads/2022/10/mantrailing-training.jpg
ORGANIZER;CN="Linda Spahlinger":MAILTO:post@linda-spahlinger.com
END:VEVENT
BEGIN:VEVENT
DTSTART;TZID=Europe/Berlin:20250707T100000
DTEND;TZID=Europe/Berlin:20250707T100000
DTSTAMP:20260419T180632
CREATED:20250620T180038Z
LAST-MODIFIED:20250618T141902Z
UID:5303-1751882400-1751882400@linda-spahlinger.com
SUMMARY:Mantrailing - M -
DESCRIPTION:Freu dich auf:\nMantrailing Training mit jeweils 2 Mensch-Hund-Teams.\nJedes Team darf sich auf zwei individuelle Trails freuen. \nTreffpunkt:\nDen genauen Treffpunkt gebe ich dir nach deiner Anmeldung rechtzeitig per WhatsApp durch. \nDeine Anmeldung:\nBitte melde dich bis spätestens 1 Woche vorher an. \nPreis\n10er Karte 370€ (einzeln 40€ je Training)
URL:https://linda-spahlinger.com/termin/mantrailing-m-320/
LOCATION:Wechselnde Orte auf den FIldern
CATEGORIES:Mantrailing Training
ATTACH;FMTTYPE=image/jpeg:https://linda-spahlinger.com/wp-content/uploads/2022/10/mantrailing-training.jpg
ORGANIZER;CN="Linda Spahlinger":MAILTO:post@linda-spahlinger.com
END:VEVENT
BEGIN:VEVENT
DTSTART;TZID=Europe/Berlin:20250707T170000
DTEND;TZID=Europe/Berlin:20250707T183000
DTSTAMP:20260419T180632
CREATED:20250618T142046Z
LAST-MODIFIED:20250618T142046Z
UID:5305-1751907600-1751913000@linda-spahlinger.com
SUMMARY:DogWarrior
DESCRIPTION:Freu dich auf:\nDogWarrior ParcoursTraining mit max. 4 Mensch-Hund-Teams.\nJedes Team darf sich auf 90-120 Minuten Beziehungsarbeit und Spaß freuen. \nTreffpunkt:\nEchterdingen. \nDeine Anmeldung:\nBitte melde dich bis spätestens 1 Woche vorher an. \nPreis\n40€ je Training
URL:https://linda-spahlinger.com/termin/dogwarrior-40/
LOCATION:Leinfelden-Echterdingen\, Bliensäckerweg 1
ATTACH;FMTTYPE=image/jpeg:https://linda-spahlinger.com/wp-content/uploads/2021/12/IMG_69101.jpeg
ORGANIZER;CN="Linda Spahlinger":MAILTO:post@linda-spahlinger.com
END:VEVENT
BEGIN:VEVENT
DTSTART;TZID=Europe/Berlin:20250708T110000
DTEND;TZID=Europe/Berlin:20250708T130000
DTSTAMP:20260419T180632
CREATED:20250620T180017Z
LAST-MODIFIED:20250618T142338Z
UID:5309-1751972400-1751979600@linda-spahlinger.com
SUMMARY:Mantrailing - L -
DESCRIPTION:Freu dich auf:\nMantrailing Training mit jeweils 2 Mensch-Hund-Teams.\nJedes Team darf sich auf zwei individuelle Trails freuen. \nTreffpunkt:\nDen genauen Treffpunkt gebe ich dir nach deiner Anmeldung rechtzeitig per WhatsApp durch. \nDeine Anmeldung:\nBitte melde dich bis spätestens 1 Woche vorher an. \nPreis\n10er Karte 370€ (einzeln 40€ je Training)
URL:https://linda-spahlinger.com/termin/mantrailing-l-159/
LOCATION:Wechselnde Orte auf den FIldern
CATEGORIES:Mantrailing Training
ATTACH;FMTTYPE=image/jpeg:https://linda-spahlinger.com/wp-content/uploads/2022/10/mantrailing-training.jpg
ORGANIZER;CN="Linda Spahlinger":MAILTO:post@linda-spahlinger.com
END:VEVENT
BEGIN:VEVENT
DTSTART;TZID=Europe/Berlin:20250709T140000
DTEND;TZID=Europe/Berlin:20250709T160000
DTSTAMP:20260419T180632
CREATED:20250620T180014Z
LAST-MODIFIED:20250618T142749Z
UID:5315-1752069600-1752076800@linda-spahlinger.com
SUMMARY:Mantrailing - M -
DESCRIPTION:Freu dich auf:\nMantrailing Training mit jeweils 2 Mensch-Hund-Teams.\nJedes Team darf sich auf zwei individuelle Trails freuen. \nTreffpunkt:\nDen genauen Treffpunkt gebe ich dir nach deiner Anmeldung rechtzeitig per WhatsApp durch. \nDeine Anmeldung:\nBitte melde dich bis spätestens 1 Woche vorher an. \nPreis\n10er Karte 370€ (einzeln 40€ je Training)
URL:https://linda-spahlinger.com/termin/mantrailing-m-323/
LOCATION:Wechselnde Orte auf den FIldern
CATEGORIES:Mantrailing Training
ATTACH;FMTTYPE=image/jpeg:https://linda-spahlinger.com/wp-content/uploads/2022/10/mantrailing-training.jpg
ORGANIZER;CN="Linda Spahlinger":MAILTO:post@linda-spahlinger.com
END:VEVENT
BEGIN:VEVENT
DTSTART;TZID=Europe/Berlin:20250709T170000
DTEND;TZID=Europe/Berlin:20250709T190000
DTSTAMP:20260419T180632
CREATED:20250620T180004Z
LAST-MODIFIED:20250618T142624Z
UID:5313-1752080400-1752087600@linda-spahlinger.com
SUMMARY:Mantrailing - M -
DESCRIPTION:Freu dich auf:\nMantrailing Training mit jeweils 2 Mensch-Hund-Teams.\nJedes Team darf sich auf zwei individuelle Trails freuen. \nTreffpunkt:\nDen genauen Treffpunkt gebe ich dir nach deiner Anmeldung rechtzeitig per WhatsApp durch. \nDeine Anmeldung:\nBitte melde dich bis spätestens 1 Woche vorher an. \nPreis\n10er Karte 370€ (einzeln 40€ je Training)
URL:https://linda-spahlinger.com/termin/mantrailing-m-322/
LOCATION:Wechselnde Orte auf den FIldern
CATEGORIES:Mantrailing Training
ATTACH;FMTTYPE=image/jpeg:https://linda-spahlinger.com/wp-content/uploads/2022/10/mantrailing-training.jpg
ORGANIZER;CN="Linda Spahlinger":MAILTO:post@linda-spahlinger.com
END:VEVENT
BEGIN:VEVENT
DTSTART;TZID=Europe/Berlin:20250709T170000
DTEND;TZID=Europe/Berlin:20250709T190000
DTSTAMP:20260419T180632
CREATED:20250620T180033Z
LAST-MODIFIED:20250618T142508Z
UID:5311-1752080400-1752087600@linda-spahlinger.com
SUMMARY:Mantrailing - L -
DESCRIPTION:Freu dich auf:\nMantrailing Training mit jeweils 2 Mensch-Hund-Teams.\nJedes Team darf sich auf zwei individuelle Trails freuen. \nTreffpunkt:\nDen genauen Treffpunkt gebe ich dir nach deiner Anmeldung rechtzeitig per WhatsApp durch. \nDeine Anmeldung:\nBitte melde dich bis spätestens 1 Woche vorher an. \nPreis\n10er Karte 370€ (einzeln 40€ je Training)
URL:https://linda-spahlinger.com/termin/mantrailing-l-160/
LOCATION:Wechselnde Orte auf den FIldern
CATEGORIES:Mantrailing Training
ATTACH;FMTTYPE=image/jpeg:https://linda-spahlinger.com/wp-content/uploads/2022/10/mantrailing-training.jpg
ORGANIZER;CN="Linda Spahlinger":MAILTO:post@linda-spahlinger.com
END:VEVENT
BEGIN:VEVENT
DTSTART;TZID=Europe/Berlin:20250711T100000
DTEND;TZID=Europe/Berlin:20250711T120000
DTSTAMP:20260419T180632
CREATED:20250620T180033Z
LAST-MODIFIED:20250618T142859Z
UID:5317-1752228000-1752235200@linda-spahlinger.com
SUMMARY:Mantrailing - M -
DESCRIPTION:Freu dich auf:\nMantrailing Training mit jeweils 2 Mensch-Hund-Teams.\nJedes Team darf sich auf zwei individuelle Trails freuen. \nTreffpunkt:\nDen genauen Treffpunkt gebe ich dir nach deiner Anmeldung rechtzeitig per WhatsApp durch. \nDeine Anmeldung:\nBitte melde dich bis spätestens 1 Woche vorher an. \nPreis\n10er Karte 370€ (einzeln 40€ je Training)
URL:https://linda-spahlinger.com/termin/mantrailing-m-324/
LOCATION:Wechselnde Orte auf den FIldern
CATEGORIES:Mantrailing Training
ATTACH;FMTTYPE=image/jpeg:https://linda-spahlinger.com/wp-content/uploads/2022/10/mantrailing-training.jpg
ORGANIZER;CN="Linda Spahlinger":MAILTO:post@linda-spahlinger.com
END:VEVENT
BEGIN:VEVENT
DTSTART;TZID=Europe/Berlin:20250712T100000
DTEND;TZID=Europe/Berlin:20250712T120000
DTSTAMP:20260419T180632
CREATED:20250620T180025Z
LAST-MODIFIED:20250618T142949Z
UID:5319-1752314400-1752321600@linda-spahlinger.com
SUMMARY:Mantrailing - M -
DESCRIPTION:Freu dich auf:\nMantrailing Training mit jeweils 2 Mensch-Hund-Teams.\nJedes Team darf sich auf zwei individuelle Trails freuen. \nTreffpunkt:\nDen genauen Treffpunkt gebe ich dir nach deiner Anmeldung rechtzeitig per WhatsApp durch. \nDeine Anmeldung:\nBitte melde dich bis spätestens 1 Woche vorher an. \nPreis\n10er Karte 370€ (einzeln 40€ je Training)
URL:https://linda-spahlinger.com/termin/mantrailing-m-325/
LOCATION:Wechselnde Orte auf den FIldern
CATEGORIES:Mantrailing Training
ATTACH;FMTTYPE=image/jpeg:https://linda-spahlinger.com/wp-content/uploads/2022/10/mantrailing-training.jpg
ORGANIZER;CN="Linda Spahlinger":MAILTO:post@linda-spahlinger.com
END:VEVENT
BEGIN:VEVENT
DTSTART;TZID=Europe/Berlin:20250722T100000
DTEND;TZID=Europe/Berlin:20250722T120000
DTSTAMP:20260419T180632
CREATED:20250620T180033Z
LAST-MODIFIED:20250618T185123Z
UID:5323-1753178400-1753185600@linda-spahlinger.com
SUMMARY:Mantrailing - L -
DESCRIPTION:Freu dich auf:\nMantrailing Training mit jeweils 2 Mensch-Hund-Teams.\nJedes Team darf sich auf zwei individuelle Trails freuen. \nTreffpunkt:\nDen genauen Treffpunkt gebe ich dir nach deiner Anmeldung rechtzeitig per WhatsApp durch. \nDeine Anmeldung:\nBitte melde dich bis spätestens 1 Woche vorher an. \nPreis\n10er Karte 370€ (einzeln 40€ je Training)
URL:https://linda-spahlinger.com/termin/mantrailing-l-161/
LOCATION:Wechselnde Orte auf den FIldern
CATEGORIES:Mantrailing Training
ATTACH;FMTTYPE=image/jpeg:https://linda-spahlinger.com/wp-content/uploads/2022/10/mantrailing-training.jpg
ORGANIZER;CN="Linda Spahlinger":MAILTO:post@linda-spahlinger.com
END:VEVENT
BEGIN:VEVENT
DTSTART;TZID=Europe/Berlin:20250723T100000
DTEND;TZID=Europe/Berlin:20250723T120000
DTSTAMP:20260419T180632
CREATED:20250620T180005Z
LAST-MODIFIED:20250618T185432Z
UID:5325-1753264800-1753272000@linda-spahlinger.com
SUMMARY:Mantrailing - L -
DESCRIPTION:Freu dich auf:\nMantrailing Training mit jeweils 2 Mensch-Hund-Teams.\nJedes Team darf sich auf zwei individuelle Trails freuen. \nTreffpunkt:\nDen genauen Treffpunkt gebe ich dir nach deiner Anmeldung rechtzeitig per WhatsApp durch. \nDeine Anmeldung:\nBitte melde dich bis spätestens 1 Woche vorher an. \nPreis\n10er Karte 370€ (einzeln 40€ je Training)
URL:https://linda-spahlinger.com/termin/mantrailing-l-162/
LOCATION:Wechselnde Orte auf den FIldern
CATEGORIES:Mantrailing Training
ATTACH;FMTTYPE=image/jpeg:https://linda-spahlinger.com/wp-content/uploads/2022/10/mantrailing-training.jpg
ORGANIZER;CN="Linda Spahlinger":MAILTO:post@linda-spahlinger.com
END:VEVENT
BEGIN:VEVENT
DTSTART;TZID=Europe/Berlin:20250723T150000
DTEND;TZID=Europe/Berlin:20250723T170000
DTSTAMP:20260419T180632
CREATED:20250620T180055Z
LAST-MODIFIED:20250618T185741Z
UID:5327-1753282800-1753290000@linda-spahlinger.com
SUMMARY:Mantrailing - L -
DESCRIPTION:Freu dich auf:\nMantrailing Training mit jeweils 2 Mensch-Hund-Teams.\nJedes Team darf sich auf zwei individuelle Trails freuen. \nTreffpunkt:\nDen genauen Treffpunkt gebe ich dir nach deiner Anmeldung rechtzeitig per WhatsApp durch. \nDeine Anmeldung:\nBitte melde dich bis spätestens 1 Woche vorher an. \nPreis\n10er Karte 370€ (einzeln 40€ je Training)
URL:https://linda-spahlinger.com/termin/mantrailing-l-163/
LOCATION:Wechselnde Orte auf den FIldern
CATEGORIES:Mantrailing Training
ATTACH;FMTTYPE=image/jpeg:https://linda-spahlinger.com/wp-content/uploads/2022/10/mantrailing-training.jpg
ORGANIZER;CN="Linda Spahlinger":MAILTO:post@linda-spahlinger.com
END:VEVENT
BEGIN:VEVENT
DTSTART;TZID=Europe/Berlin:20250723T170000
DTEND;TZID=Europe/Berlin:20250723T190000
DTSTAMP:20260419T180632
CREATED:20250620T180017Z
LAST-MODIFIED:20250618T185950Z
UID:5329-1753290000-1753297200@linda-spahlinger.com
SUMMARY:Mantrailing - M -
DESCRIPTION:Freu dich auf:\nMantrailing Training mit jeweils 2 Mensch-Hund-Teams.\nJedes Team darf sich auf zwei individuelle Trails freuen. \nTreffpunkt:\nDen genauen Treffpunkt gebe ich dir nach deiner Anmeldung rechtzeitig per WhatsApp durch. \nDeine Anmeldung:\nBitte melde dich bis spätestens 1 Woche vorher an. \nPreis\n10er Karte 370€ (einzeln 40€ je Training)
URL:https://linda-spahlinger.com/termin/mantrailing-m-326/
LOCATION:Wechselnde Orte auf den FIldern
CATEGORIES:Mantrailing Training
ATTACH;FMTTYPE=image/jpeg:https://linda-spahlinger.com/wp-content/uploads/2022/10/mantrailing-training.jpg
ORGANIZER;CN="Linda Spahlinger":MAILTO:post@linda-spahlinger.com
END:VEVENT
BEGIN:VEVENT
DTSTART;TZID=Europe/Berlin:20250724T170000
DTEND;TZID=Europe/Berlin:20250724T190000
DTSTAMP:20260419T180632
CREATED:20250620T180039Z
LAST-MODIFIED:20250618T190329Z
UID:5331-1753376400-1753383600@linda-spahlinger.com
SUMMARY:Mantrailing - M -
DESCRIPTION:Freu dich auf:\nMantrailing Training mit jeweils 2 Mensch-Hund-Teams.\nJedes Team darf sich auf zwei individuelle Trails freuen. \nTreffpunkt:\nDen genauen Treffpunkt gebe ich dir nach deiner Anmeldung rechtzeitig per WhatsApp durch. \nDeine Anmeldung:\nBitte melde dich bis spätestens 1 Woche vorher an. \nPreis\n10er Karte 370€ (einzeln 40€ je Training)
URL:https://linda-spahlinger.com/termin/mantrailing-m-327/
LOCATION:Wechselnde Orte auf den FIldern
CATEGORIES:Mantrailing Training
ATTACH;FMTTYPE=image/jpeg:https://linda-spahlinger.com/wp-content/uploads/2022/10/mantrailing-training.jpg
ORGANIZER;CN="Linda Spahlinger":MAILTO:post@linda-spahlinger.com
END:VEVENT
BEGIN:VEVENT
DTSTART;TZID=Europe/Berlin:20250725T100000
DTEND;TZID=Europe/Berlin:20250725T120000
DTSTAMP:20260419T180632
CREATED:20250620T180042Z
LAST-MODIFIED:20250618T191012Z
UID:5335-1753437600-1753444800@linda-spahlinger.com
SUMMARY:Mantrailing - M -
DESCRIPTION:Freu dich auf:\nMantrailing Training mit jeweils 2 Mensch-Hund-Teams.\nJedes Team darf sich auf zwei individuelle Trails freuen. \nTreffpunkt:\nDen genauen Treffpunkt gebe ich dir nach deiner Anmeldung rechtzeitig per WhatsApp durch. \nDeine Anmeldung:\nBitte melde dich bis spätestens 1 Woche vorher an. \nPreis\n10er Karte 370€ (einzeln 40€ je Training)
URL:https://linda-spahlinger.com/termin/mantrailing-m-328/
LOCATION:Wechselnde Orte auf den FIldern
CATEGORIES:Mantrailing Training
ATTACH;FMTTYPE=image/jpeg:https://linda-spahlinger.com/wp-content/uploads/2022/10/mantrailing-training.jpg
ORGANIZER;CN="Linda Spahlinger":MAILTO:post@linda-spahlinger.com
END:VEVENT
BEGIN:VEVENT
DTSTART;TZID=Europe/Berlin:20250725T160000
DTEND;TZID=Europe/Berlin:20250725T180000
DTSTAMP:20260419T180632
CREATED:20250620T180005Z
LAST-MODIFIED:20250618T191133Z
UID:5337-1753459200-1753466400@linda-spahlinger.com
SUMMARY:Mantrailing - M -
DESCRIPTION:Freu dich auf:\nMantrailing Training mit jeweils 2 Mensch-Hund-Teams.\nJedes Team darf sich auf zwei individuelle Trails freuen. \nTreffpunkt:\nDen genauen Treffpunkt gebe ich dir nach deiner Anmeldung rechtzeitig per WhatsApp durch. \nDeine Anmeldung:\nBitte melde dich bis spätestens 1 Woche vorher an. \nPreis\n10er Karte 370€ (einzeln 40€ je Training)
URL:https://linda-spahlinger.com/termin/mantrailing-m-329/
LOCATION:Wechselnde Orte auf den FIldern
CATEGORIES:Mantrailing Training
ATTACH;FMTTYPE=image/jpeg:https://linda-spahlinger.com/wp-content/uploads/2022/10/mantrailing-training.jpg
ORGANIZER;CN="Linda Spahlinger":MAILTO:post@linda-spahlinger.com
END:VEVENT
BEGIN:VEVENT
DTSTART;TZID=Europe/Berlin:20250726T100000
DTEND;TZID=Europe/Berlin:20250726T120000
DTSTAMP:20260419T180632
CREATED:20250620T180055Z
LAST-MODIFIED:20250618T191328Z
UID:5339-1753524000-1753531200@linda-spahlinger.com
SUMMARY:Mantrailing - M -
DESCRIPTION:Freu dich auf:\nMantrailing Training mit jeweils 2 Mensch-Hund-Teams.\nJedes Team darf sich auf zwei individuelle Trails freuen. \nTreffpunkt:\nDen genauen Treffpunkt gebe ich dir nach deiner Anmeldung rechtzeitig per WhatsApp durch. \nDeine Anmeldung:\nBitte melde dich bis spätestens 1 Woche vorher an. \nPreis\n10er Karte 370€ (einzeln 40€ je Training)
URL:https://linda-spahlinger.com/termin/mantrailing-m-330/
LOCATION:Wechselnde Orte auf den FIldern
CATEGORIES:Mantrailing Training
ATTACH;FMTTYPE=image/jpeg:https://linda-spahlinger.com/wp-content/uploads/2022/10/mantrailing-training.jpg
ORGANIZER;CN="Linda Spahlinger":MAILTO:post@linda-spahlinger.com
END:VEVENT
BEGIN:VEVENT
DTSTART;TZID=Europe/Berlin:20250727T100000
DTEND;TZID=Europe/Berlin:20250727T120000
DTSTAMP:20260419T180632
CREATED:20250620T180016Z
LAST-MODIFIED:20250618T192425Z
UID:5341-1753610400-1753617600@linda-spahlinger.com
SUMMARY:Mantrailing - M -
DESCRIPTION:Freu dich auf:\nMantrailing Training mit jeweils 2 Mensch-Hund-Teams.\nJedes Team darf sich auf zwei individuelle Trails freuen. \nTreffpunkt:\nDen genauen Treffpunkt gebe ich dir nach deiner Anmeldung rechtzeitig per WhatsApp durch. \nDeine Anmeldung:\nBitte melde dich bis spätestens 1 Woche vorher an. \nPreis\n10er Karte 370€ (einzeln 40€ je Training)
URL:https://linda-spahlinger.com/termin/mantrailing-m-331/
LOCATION:Wechselnde Orte auf den FIldern
CATEGORIES:Mantrailing Training
ATTACH;FMTTYPE=image/jpeg:https://linda-spahlinger.com/wp-content/uploads/2022/10/mantrailing-training.jpg
ORGANIZER;CN="Linda Spahlinger":MAILTO:post@linda-spahlinger.com
END:VEVENT
BEGIN:VEVENT
DTSTART;TZID=Europe/Berlin:20250728T100000
DTEND;TZID=Europe/Berlin:20250728T120000
DTSTAMP:20260419T180632
CREATED:20250620T180018Z
LAST-MODIFIED:20250618T193653Z
UID:5351-1753696800-1753704000@linda-spahlinger.com
SUMMARY:Mantrailing - L -
DESCRIPTION:Freu dich auf:\nMantrailing Training mit jeweils 2 Mensch-Hund-Teams.\nJedes Team darf sich auf zwei individuelle Trails freuen. \nTreffpunkt:\nDen genauen Treffpunkt gebe ich dir nach deiner Anmeldung rechtzeitig per WhatsApp durch. \nDeine Anmeldung:\nBitte melde dich bis spätestens 1 Woche vorher an. \nPreis\n10er Karte 370€ (einzeln 40€ je Training)
URL:https://linda-spahlinger.com/termin/mantrailing-l-164/
LOCATION:Wechselnde Orte auf den FIldern
CATEGORIES:Mantrailing Training
ATTACH;FMTTYPE=image/jpeg:https://linda-spahlinger.com/wp-content/uploads/2022/10/mantrailing-training.jpg
ORGANIZER;CN="Linda Spahlinger":MAILTO:post@linda-spahlinger.com
END:VEVENT
BEGIN:VEVENT
DTSTART;TZID=Europe/Berlin:20250728T140000
DTEND;TZID=Europe/Berlin:20250728T160000
DTSTAMP:20260419T180632
CREATED:20250620T180007Z
LAST-MODIFIED:20250618T194029Z
UID:5353-1753711200-1753718400@linda-spahlinger.com
SUMMARY:Mantrailing - L -
DESCRIPTION:Freu dich auf:\nMantrailing Training mit jeweils 2 Mensch-Hund-Teams.\nJedes Team darf sich auf zwei individuelle Trails freuen. \nTreffpunkt:\nDen genauen Treffpunkt gebe ich dir nach deiner Anmeldung rechtzeitig per WhatsApp durch. \nDeine Anmeldung:\nBitte melde dich bis spätestens 1 Woche vorher an. \nPreis\n10er Karte 370€ (einzeln 40€ je Training)
URL:https://linda-spahlinger.com/termin/mantrailing-l-165/
LOCATION:Wechselnde Orte auf den FIldern
CATEGORIES:Mantrailing Training
ATTACH;FMTTYPE=image/jpeg:https://linda-spahlinger.com/wp-content/uploads/2022/10/mantrailing-training.jpg
ORGANIZER;CN="Linda Spahlinger":MAILTO:post@linda-spahlinger.com
END:VEVENT
BEGIN:VEVENT
DTSTART;TZID=Europe/Berlin:20250728T150000
DTEND;TZID=Europe/Berlin:20250728T170000
DTSTAMP:20260419T180632
CREATED:20250620T180049Z
LAST-MODIFIED:20250620T192623Z
UID:5343-1753714800-1753722000@linda-spahlinger.com
SUMMARY:Mantrailing - M -
DESCRIPTION:Freu dich auf:\nMantrailing Training mit jeweils 2 Mensch-Hund-Teams.\nJedes Team darf sich auf zwei individuelle Trails freuen. \nTreffpunkt:\nDen genauen Treffpunkt gebe ich dir nach deiner Anmeldung rechtzeitig per WhatsApp durch. \nDeine Anmeldung:\nBitte melde dich bis spätestens 1 Woche vorher an. \nPreis\n10er Karte 370€ (einzeln 40€ je Training)
URL:https://linda-spahlinger.com/termin/mantrailing-m-334/
LOCATION:Wechselnde Orte auf den FIldern
CATEGORIES:Mantrailing Training
ATTACH;FMTTYPE=image/jpeg:https://linda-spahlinger.com/wp-content/uploads/2022/10/mantrailing-training.jpg
ORGANIZER;CN="Linda Spahlinger":MAILTO:post@linda-spahlinger.com
END:VEVENT
BEGIN:VEVENT
DTSTART;TZID=Europe/Berlin:20250729T100000
DTEND;TZID=Europe/Berlin:20250729T120000
DTSTAMP:20260419T180632
CREATED:20250620T180043Z
LAST-MODIFIED:20250618T194615Z
UID:5359-1753783200-1753790400@linda-spahlinger.com
SUMMARY:Mantrailing - L -
DESCRIPTION:Freu dich auf:\nMantrailing Training mit jeweils 2 Mensch-Hund-Teams.\nJedes Team darf sich auf zwei individuelle Trails freuen. \nTreffpunkt:\nDen genauen Treffpunkt gebe ich dir nach deiner Anmeldung rechtzeitig per WhatsApp durch. \nDeine Anmeldung:\nBitte melde dich bis spätestens 1 Woche vorher an. \nPreis\n10er Karte 370€ (einzeln 40€ je Training)
URL:https://linda-spahlinger.com/termin/mantrailing-l-166/
LOCATION:Wechselnde Orte auf den FIldern
CATEGORIES:Mantrailing Training
ATTACH;FMTTYPE=image/jpeg:https://linda-spahlinger.com/wp-content/uploads/2022/10/mantrailing-training.jpg
ORGANIZER;CN="Linda Spahlinger":MAILTO:post@linda-spahlinger.com
END:VEVENT
BEGIN:VEVENT
DTSTART;TZID=Europe/Berlin:20250730T090000
DTEND;TZID=Europe/Berlin:20250730T110000
DTSTAMP:20260419T180632
CREATED:20250620T180020Z
LAST-MODIFIED:20250629T155928Z
UID:5361-1753866000-1753873200@linda-spahlinger.com
SUMMARY:Mantrailing - M -
DESCRIPTION:Freu dich auf:\nMantrailing Training mit jeweils 2 Mensch-Hund-Teams.\nJedes Team darf sich auf zwei individuelle Trails freuen. \nTreffpunkt:\nDen genauen Treffpunkt gebe ich dir nach deiner Anmeldung rechtzeitig per WhatsApp durch. \nDeine Anmeldung:\nBitte melde dich bis spätestens 1 Woche vorher an. \nPreis\n10er Karte 370€ (einzeln 40€ je Training)
URL:https://linda-spahlinger.com/termin/mantrailing-m-337/
LOCATION:Wechselnde Orte auf den FIldern
CATEGORIES:Mantrailing Training
ATTACH;FMTTYPE=image/jpeg:https://linda-spahlinger.com/wp-content/uploads/2022/10/mantrailing-training.jpg
ORGANIZER;CN="Linda Spahlinger":MAILTO:post@linda-spahlinger.com
END:VEVENT
END:VCALENDAR