BEGIN:VCALENDAR
VERSION:2.0
PRODID:-//Linda Spahlinger - ECPv6.15.13.1//NONSGML v1.0//EN
CALSCALE:GREGORIAN
METHOD:PUBLISH
X-WR-CALNAME:Linda Spahlinger
X-ORIGINAL-URL:https://linda-spahlinger.com
X-WR-CALDESC:Veranstaltungen für Linda Spahlinger
REFRESH-INTERVAL;VALUE=DURATION:PT1H
X-Robots-Tag:noindex
X-PUBLISHED-TTL:PT1H
BEGIN:VTIMEZONE
TZID:Europe/Berlin
BEGIN:DAYLIGHT
TZOFFSETFROM:+0100
TZOFFSETTO:+0200
TZNAME:CEST
DTSTART:20240331T010000
END:DAYLIGHT
BEGIN:STANDARD
TZOFFSETFROM:+0200
TZOFFSETTO:+0100
TZNAME:CET
DTSTART:20241027T010000
END:STANDARD
BEGIN:DAYLIGHT
TZOFFSETFROM:+0100
TZOFFSETTO:+0200
TZNAME:CEST
DTSTART:20250330T010000
END:DAYLIGHT
BEGIN:STANDARD
TZOFFSETFROM:+0200
TZOFFSETTO:+0100
TZNAME:CET
DTSTART:20251026T010000
END:STANDARD
BEGIN:DAYLIGHT
TZOFFSETFROM:+0100
TZOFFSETTO:+0200
TZNAME:CEST
DTSTART:20260329T010000
END:DAYLIGHT
BEGIN:STANDARD
TZOFFSETFROM:+0200
TZOFFSETTO:+0100
TZNAME:CET
DTSTART:20261025T010000
END:STANDARD
END:VTIMEZONE
BEGIN:VEVENT
DTSTART;TZID=Europe/Berlin:20250504T140000
DTEND;TZID=Europe/Berlin:20250504T160000
DTSTAMP:20260419T150219
CREATED:20250425T180007Z
LAST-MODIFIED:20250425T183030Z
UID:5130-1746367200-1746374400@linda-spahlinger.com
SUMMARY:Mantrailing - M -
DESCRIPTION:Freu dich auf:\nMantrailing Training mit jeweils 2 Mensch-Hund-Teams.\nJedes Team darf sich auf zwei individuelle Trails freuen. \nTreffpunkt:\nDen genauen Treffpunkt gebe ich dir nach deiner Anmeldung rechtzeitig per WhatsApp durch. \nDeine Anmeldung:\nBitte melde dich bis spätestens 1 Woche vorher an. \nPreis\n10er Karte 370€ (einzeln 40€ je Training)
URL:https://linda-spahlinger.com/termin/mantrailing-m-261/
LOCATION:Wechselnde Orte auf den FIldern
CATEGORIES:Mantrailing Training
ATTACH;FMTTYPE=image/jpeg:https://linda-spahlinger.com/wp-content/uploads/2022/10/mantrailing-training.jpg
ORGANIZER;CN="Linda Spahlinger":MAILTO:post@linda-spahlinger.com
END:VEVENT
BEGIN:VEVENT
DTSTART;TZID=Europe/Berlin:20250505T100000
DTEND;TZID=Europe/Berlin:20250505T100000
DTSTAMP:20260419T150219
CREATED:20250425T180008Z
LAST-MODIFIED:20250422T094334Z
UID:5134-1746439200-1746439200@linda-spahlinger.com
SUMMARY:Mantrailing - L -
DESCRIPTION:Freu dich auf:\nMantrailing Training mit jeweils 2 Mensch-Hund-Teams.\nJedes Team darf sich auf zwei individuelle Trails freuen. \nTreffpunkt:\nDen genauen Treffpunkt gebe ich dir nach deiner Anmeldung rechtzeitig per WhatsApp durch. \nDeine Anmeldung:\nBitte melde dich bis spätestens 1 Woche vorher an. \nPreis\n10er Karte 370€ (einzeln 40€ je Training)
URL:https://linda-spahlinger.com/termin/mantrailing-l-139/
LOCATION:Wechselnde Orte auf den FIldern
CATEGORIES:Mantrailing Training
ATTACH;FMTTYPE=image/jpeg:https://linda-spahlinger.com/wp-content/uploads/2022/10/mantrailing-training.jpg
ORGANIZER;CN="Linda Spahlinger":MAILTO:post@linda-spahlinger.com
END:VEVENT
BEGIN:VEVENT
DTSTART;TZID=Europe/Berlin:20250505T140000
DTEND;TZID=Europe/Berlin:20250505T160000
DTSTAMP:20260419T150219
CREATED:20250425T180037Z
LAST-MODIFIED:20250422T094457Z
UID:5136-1746453600-1746460800@linda-spahlinger.com
SUMMARY:Mantrailing - L -
DESCRIPTION:Freu dich auf:\nMantrailing Training mit jeweils 2 Mensch-Hund-Teams.\nJedes Team darf sich auf zwei individuelle Trails freuen. \nTreffpunkt:\nDen genauen Treffpunkt gebe ich dir nach deiner Anmeldung rechtzeitig per WhatsApp durch. \nDeine Anmeldung:\nBitte melde dich bis spätestens 1 Woche vorher an. \nPreis\n10er Karte 370€ (einzeln 40€ je Training)
URL:https://linda-spahlinger.com/termin/mantrailing-l-140/
LOCATION:Wechselnde Orte auf den FIldern
CATEGORIES:Mantrailing Training
ATTACH;FMTTYPE=image/jpeg:https://linda-spahlinger.com/wp-content/uploads/2022/10/mantrailing-training.jpg
ORGANIZER;CN="Linda Spahlinger":MAILTO:post@linda-spahlinger.com
END:VEVENT
BEGIN:VEVENT
DTSTART;TZID=Europe/Berlin:20250505T160000
DTEND;TZID=Europe/Berlin:20250505T180000
DTSTAMP:20260419T150219
CREATED:20250425T180046Z
LAST-MODIFIED:20250422T094208Z
UID:5132-1746460800-1746468000@linda-spahlinger.com
SUMMARY:Mantrailing - M -
DESCRIPTION:Freu dich auf:\nMantrailing Training mit jeweils 2 Mensch-Hund-Teams.\nJedes Team darf sich auf zwei individuelle Trails freuen. \nTreffpunkt:\nDen genauen Treffpunkt gebe ich dir nach deiner Anmeldung rechtzeitig per WhatsApp durch. \nDeine Anmeldung:\nBitte melde dich bis spätestens 1 Woche vorher an. \nPreis\n10er Karte 370€ (einzeln 40€ je Training)
URL:https://linda-spahlinger.com/termin/mantrailing-m-262/
LOCATION:Wechselnde Orte auf den FIldern
CATEGORIES:Mantrailing Training
ATTACH;FMTTYPE=image/jpeg:https://linda-spahlinger.com/wp-content/uploads/2022/10/mantrailing-training.jpg
ORGANIZER;CN="Linda Spahlinger":MAILTO:post@linda-spahlinger.com
END:VEVENT
BEGIN:VEVENT
DTSTART;TZID=Europe/Berlin:20250506T110000
DTEND;TZID=Europe/Berlin:20250506T130000
DTSTAMP:20260419T150219
CREATED:20250425T180052Z
LAST-MODIFIED:20250422T094713Z
UID:5140-1746529200-1746536400@linda-spahlinger.com
SUMMARY:Mantrailing - M -
DESCRIPTION:Freu dich auf:\nMantrailing Training mit jeweils 2 Mensch-Hund-Teams.\nJedes Team darf sich auf zwei individuelle Trails freuen. \nTreffpunkt:\nDen genauen Treffpunkt gebe ich dir nach deiner Anmeldung rechtzeitig per WhatsApp durch. \nDeine Anmeldung:\nBitte melde dich bis spätestens 1 Woche vorher an. \nPreis\n10er Karte 370€ (einzeln 40€ je Training)
URL:https://linda-spahlinger.com/termin/mantrailing-m-277/
LOCATION:Wechselnde Orte auf den FIldern
CATEGORIES:Mantrailing Training
ATTACH;FMTTYPE=image/jpeg:https://linda-spahlinger.com/wp-content/uploads/2022/10/mantrailing-training.jpg
ORGANIZER;CN="Linda Spahlinger":MAILTO:post@linda-spahlinger.com
END:VEVENT
BEGIN:VEVENT
DTSTART;TZID=Europe/Berlin:20250506T140000
DTEND;TZID=Europe/Berlin:20250506T160000
DTSTAMP:20260419T150219
CREATED:20250425T180039Z
LAST-MODIFIED:20250422T094602Z
UID:5138-1746540000-1746547200@linda-spahlinger.com
SUMMARY:Mantrailing - L -
DESCRIPTION:Freu dich auf:\nMantrailing Training mit jeweils 2 Mensch-Hund-Teams.\nJedes Team darf sich auf zwei individuelle Trails freuen. \nTreffpunkt:\nDen genauen Treffpunkt gebe ich dir nach deiner Anmeldung rechtzeitig per WhatsApp durch. \nDeine Anmeldung:\nBitte melde dich bis spätestens 1 Woche vorher an. \nPreis\n10er Karte 370€ (einzeln 40€ je Training)
URL:https://linda-spahlinger.com/termin/mantrailing-l-141/
LOCATION:Wechselnde Orte auf den FIldern
CATEGORIES:Mantrailing Training
ATTACH;FMTTYPE=image/jpeg:https://linda-spahlinger.com/wp-content/uploads/2022/10/mantrailing-training.jpg
ORGANIZER;CN="Linda Spahlinger":MAILTO:post@linda-spahlinger.com
END:VEVENT
BEGIN:VEVENT
DTSTART;TZID=Europe/Berlin:20250507T100000
DTEND;TZID=Europe/Berlin:20250507T120000
DTSTAMP:20260419T150219
CREATED:20250425T180018Z
LAST-MODIFIED:20250422T095042Z
UID:5142-1746612000-1746619200@linda-spahlinger.com
SUMMARY:Mantrailing - M -
DESCRIPTION:Freu dich auf:\nMantrailing Training mit jeweils 2 Mensch-Hund-Teams.\nJedes Team darf sich auf zwei individuelle Trails freuen. \nTreffpunkt:\nDen genauen Treffpunkt gebe ich dir nach deiner Anmeldung rechtzeitig per WhatsApp durch. \nDeine Anmeldung:\nBitte melde dich bis spätestens 1 Woche vorher an. \nPreis\n10er Karte 370€ (einzeln 40€ je Training)
URL:https://linda-spahlinger.com/termin/mantrailing-m-278/
LOCATION:Wechselnde Orte auf den FIldern
CATEGORIES:Mantrailing Training
ATTACH;FMTTYPE=image/jpeg:https://linda-spahlinger.com/wp-content/uploads/2022/10/mantrailing-training.jpg
ORGANIZER;CN="Linda Spahlinger":MAILTO:post@linda-spahlinger.com
END:VEVENT
BEGIN:VEVENT
DTSTART;TZID=Europe/Berlin:20250507T150000
DTEND;TZID=Europe/Berlin:20250507T170000
DTSTAMP:20260419T150219
CREATED:20250425T180051Z
LAST-MODIFIED:20250422T095316Z
UID:5146-1746630000-1746637200@linda-spahlinger.com
SUMMARY:Mantrailing - L -
DESCRIPTION:Freu dich auf:\nMantrailing Training mit jeweils 2 Mensch-Hund-Teams.\nJedes Team darf sich auf zwei individuelle Trails freuen. \nTreffpunkt:\nDen genauen Treffpunkt gebe ich dir nach deiner Anmeldung rechtzeitig per WhatsApp durch. \nDeine Anmeldung:\nBitte melde dich bis spätestens 1 Woche vorher an. \nPreis\n10er Karte 370€ (einzeln 40€ je Training)
URL:https://linda-spahlinger.com/termin/mantrailing-l-142/
LOCATION:Wechselnde Orte auf den FIldern
CATEGORIES:Mantrailing Training
ATTACH;FMTTYPE=image/jpeg:https://linda-spahlinger.com/wp-content/uploads/2022/10/mantrailing-training.jpg
ORGANIZER;CN="Linda Spahlinger":MAILTO:post@linda-spahlinger.com
END:VEVENT
BEGIN:VEVENT
DTSTART;TZID=Europe/Berlin:20250507T160000
DTEND;TZID=Europe/Berlin:20250507T180000
DTSTAMP:20260419T150219
CREATED:20250425T180038Z
LAST-MODIFIED:20250422T095201Z
UID:5144-1746633600-1746640800@linda-spahlinger.com
SUMMARY:Mantrailing - M -
DESCRIPTION:Freu dich auf:\nMantrailing Training mit jeweils 2 Mensch-Hund-Teams.\nJedes Team darf sich auf zwei individuelle Trails freuen. \nTreffpunkt:\nDen genauen Treffpunkt gebe ich dir nach deiner Anmeldung rechtzeitig per WhatsApp durch. \nDeine Anmeldung:\nBitte melde dich bis spätestens 1 Woche vorher an. \nPreis\n10er Karte 370€ (einzeln 40€ je Training)
URL:https://linda-spahlinger.com/termin/mantrailing-m-279/
LOCATION:Wechselnde Orte auf den FIldern
CATEGORIES:Mantrailing Training
ATTACH;FMTTYPE=image/jpeg:https://linda-spahlinger.com/wp-content/uploads/2022/10/mantrailing-training.jpg
ORGANIZER;CN="Linda Spahlinger":MAILTO:post@linda-spahlinger.com
END:VEVENT
BEGIN:VEVENT
DTSTART;TZID=Europe/Berlin:20250508T100000
DTEND;TZID=Europe/Berlin:20250508T100000
DTSTAMP:20260419T150219
CREATED:20250425T180056Z
LAST-MODIFIED:20250422T095518Z
UID:5148-1746698400-1746698400@linda-spahlinger.com
SUMMARY:Mantrailing - M -
DESCRIPTION:Freu dich auf:\nMantrailing Training mit jeweils 2 Mensch-Hund-Teams.\nJedes Team darf sich auf zwei individuelle Trails freuen. \nTreffpunkt:\nDen genauen Treffpunkt gebe ich dir nach deiner Anmeldung rechtzeitig per WhatsApp durch. \nDeine Anmeldung:\nBitte melde dich bis spätestens 1 Woche vorher an. \nPreis\n10er Karte 370€ (einzeln 40€ je Training)
URL:https://linda-spahlinger.com/termin/mantrailing-m-280/
LOCATION:Wechselnde Orte auf den FIldern
CATEGORIES:Mantrailing Training
ATTACH;FMTTYPE=image/jpeg:https://linda-spahlinger.com/wp-content/uploads/2022/10/mantrailing-training.jpg
ORGANIZER;CN="Linda Spahlinger":MAILTO:post@linda-spahlinger.com
END:VEVENT
BEGIN:VEVENT
DTSTART;TZID=Europe/Berlin:20250508T170000
DTEND;TZID=Europe/Berlin:20250508T190000
DTSTAMP:20260419T150219
CREATED:20250425T180001Z
LAST-MODIFIED:20250422T095626Z
UID:5150-1746723600-1746730800@linda-spahlinger.com
SUMMARY:Mantrailing - M -
DESCRIPTION:Freu dich auf:\nMantrailing Training mit jeweils 2 Mensch-Hund-Teams.\nJedes Team darf sich auf zwei individuelle Trails freuen. \nTreffpunkt:\nDen genauen Treffpunkt gebe ich dir nach deiner Anmeldung rechtzeitig per WhatsApp durch. \nDeine Anmeldung:\nBitte melde dich bis spätestens 1 Woche vorher an. \nPreis\n10er Karte 370€ (einzeln 40€ je Training)
URL:https://linda-spahlinger.com/termin/mantrailing-m-281/
LOCATION:Wechselnde Orte auf den FIldern
CATEGORIES:Mantrailing Training
ATTACH;FMTTYPE=image/jpeg:https://linda-spahlinger.com/wp-content/uploads/2022/10/mantrailing-training.jpg
ORGANIZER;CN="Linda Spahlinger":MAILTO:post@linda-spahlinger.com
END:VEVENT
BEGIN:VEVENT
DTSTART;TZID=Europe/Berlin:20250509T100000
DTEND;TZID=Europe/Berlin:20250509T120000
DTSTAMP:20260419T150219
CREATED:20250425T180016Z
LAST-MODIFIED:20250422T095738Z
UID:5152-1746784800-1746792000@linda-spahlinger.com
SUMMARY:Mantrailing - M -
DESCRIPTION:Freu dich auf:\nMantrailing Training mit jeweils 2 Mensch-Hund-Teams.\nJedes Team darf sich auf zwei individuelle Trails freuen. \nTreffpunkt:\nDen genauen Treffpunkt gebe ich dir nach deiner Anmeldung rechtzeitig per WhatsApp durch. \nDeine Anmeldung:\nBitte melde dich bis spätestens 1 Woche vorher an. \nPreis\n10er Karte 370€ (einzeln 40€ je Training)
URL:https://linda-spahlinger.com/termin/mantrailing-m-282/
LOCATION:Wechselnde Orte auf den FIldern
CATEGORIES:Mantrailing Training
ATTACH;FMTTYPE=image/jpeg:https://linda-spahlinger.com/wp-content/uploads/2022/10/mantrailing-training.jpg
ORGANIZER;CN="Linda Spahlinger":MAILTO:post@linda-spahlinger.com
END:VEVENT
BEGIN:VEVENT
DTSTART;TZID=Europe/Berlin:20250509T150000
DTEND;TZID=Europe/Berlin:20250509T170000
DTSTAMP:20260419T150219
CREATED:20250425T180023Z
LAST-MODIFIED:20250422T095848Z
UID:5154-1746802800-1746810000@linda-spahlinger.com
SUMMARY:Mantrailing - M -
DESCRIPTION:Freu dich auf:\nMantrailing Training mit jeweils 2 Mensch-Hund-Teams.\nJedes Team darf sich auf zwei individuelle Trails freuen. \nTreffpunkt:\nDen genauen Treffpunkt gebe ich dir nach deiner Anmeldung rechtzeitig per WhatsApp durch. \nDeine Anmeldung:\nBitte melde dich bis spätestens 1 Woche vorher an. \nPreis\n10er Karte 370€ (einzeln 40€ je Training)
URL:https://linda-spahlinger.com/termin/mantrailing-m-283/
LOCATION:Wechselnde Orte auf den FIldern
CATEGORIES:Mantrailing Training
ATTACH;FMTTYPE=image/jpeg:https://linda-spahlinger.com/wp-content/uploads/2022/10/mantrailing-training.jpg
ORGANIZER;CN="Linda Spahlinger":MAILTO:post@linda-spahlinger.com
END:VEVENT
BEGIN:VEVENT
DTSTART;TZID=Europe/Berlin:20250510T130000
DTEND;TZID=Europe/Berlin:20250510T150000
DTSTAMP:20260419T150219
CREATED:20250425T180046Z
LAST-MODIFIED:20250422T100046Z
UID:5156-1746882000-1746889200@linda-spahlinger.com
SUMMARY:Mantrailing - M -
DESCRIPTION:Freu dich auf:\nMantrailing Training mit jeweils 2 Mensch-Hund-Teams.\nJedes Team darf sich auf zwei individuelle Trails freuen. \nTreffpunkt:\nDen genauen Treffpunkt gebe ich dir nach deiner Anmeldung rechtzeitig per WhatsApp durch. \nDeine Anmeldung:\nBitte melde dich bis spätestens 1 Woche vorher an. \nPreis\n10er Karte 370€ (einzeln 40€ je Training)
URL:https://linda-spahlinger.com/termin/mantrailing-m-284/
LOCATION:Wechselnde Orte auf den FIldern
CATEGORIES:Mantrailing Training
ATTACH;FMTTYPE=image/jpeg:https://linda-spahlinger.com/wp-content/uploads/2022/10/mantrailing-training.jpg
ORGANIZER;CN="Linda Spahlinger":MAILTO:post@linda-spahlinger.com
END:VEVENT
BEGIN:VEVENT
DTSTART;TZID=Europe/Berlin:20250511T100000
DTEND;TZID=Europe/Berlin:20250511T120000
DTSTAMP:20260419T150219
CREATED:20250425T180026Z
LAST-MODIFIED:20250422T100148Z
UID:5158-1746957600-1746964800@linda-spahlinger.com
SUMMARY:Mantrailing - M -
DESCRIPTION:Freu dich auf:\nMantrailing Training mit jeweils 2 Mensch-Hund-Teams.\nJedes Team darf sich auf zwei individuelle Trails freuen. \nTreffpunkt:\nDen genauen Treffpunkt gebe ich dir nach deiner Anmeldung rechtzeitig per WhatsApp durch. \nDeine Anmeldung:\nBitte melde dich bis spätestens 1 Woche vorher an. \nPreis\n10er Karte 370€ (einzeln 40€ je Training)
URL:https://linda-spahlinger.com/termin/mantrailing-m-285/
LOCATION:Wechselnde Orte auf den FIldern
CATEGORIES:Mantrailing Training
ATTACH;FMTTYPE=image/jpeg:https://linda-spahlinger.com/wp-content/uploads/2022/10/mantrailing-training.jpg
ORGANIZER;CN="Linda Spahlinger":MAILTO:post@linda-spahlinger.com
END:VEVENT
BEGIN:VEVENT
DTSTART;TZID=Europe/Berlin:20250512T110000
DTEND;TZID=Europe/Berlin:20250512T130000
DTSTAMP:20260419T150219
CREATED:20250425T180057Z
LAST-MODIFIED:20250422T100323Z
UID:5161-1747047600-1747054800@linda-spahlinger.com
SUMMARY:Mantrailing - M -
DESCRIPTION:Freu dich auf:\nMantrailing Training mit jeweils 2 Mensch-Hund-Teams.\nJedes Team darf sich auf zwei individuelle Trails freuen. \nTreffpunkt:\nDen genauen Treffpunkt gebe ich dir nach deiner Anmeldung rechtzeitig per WhatsApp durch. \nDeine Anmeldung:\nBitte melde dich bis spätestens 1 Woche vorher an. \nPreis\n10er Karte 370€ (einzeln 40€ je Training)
URL:https://linda-spahlinger.com/termin/mantrailing-m-286/
LOCATION:Wechselnde Orte auf den FIldern
CATEGORIES:Mantrailing Training
ATTACH;FMTTYPE=image/jpeg:https://linda-spahlinger.com/wp-content/uploads/2022/10/mantrailing-training.jpg
ORGANIZER;CN="Linda Spahlinger":MAILTO:post@linda-spahlinger.com
END:VEVENT
BEGIN:VEVENT
DTSTART;TZID=Europe/Berlin:20250512T140000
DTEND;TZID=Europe/Berlin:20250512T160000
DTSTAMP:20260419T150219
CREATED:20250425T180012Z
LAST-MODIFIED:20250422T100436Z
UID:5163-1747058400-1747065600@linda-spahlinger.com
SUMMARY:Mantrailing - L -
DESCRIPTION:Freu dich auf:\nMantrailing Training mit jeweils 2 Mensch-Hund-Teams.\nJedes Team darf sich auf zwei individuelle Trails freuen. \nTreffpunkt:\nDen genauen Treffpunkt gebe ich dir nach deiner Anmeldung rechtzeitig per WhatsApp durch. \nDeine Anmeldung:\nBitte melde dich bis spätestens 1 Woche vorher an. \nPreis\n10er Karte 370€ (einzeln 40€ je Training)
URL:https://linda-spahlinger.com/termin/mantrailing-l-143/
LOCATION:Wechselnde Orte auf den FIldern
CATEGORIES:Mantrailing Training
ATTACH;FMTTYPE=image/jpeg:https://linda-spahlinger.com/wp-content/uploads/2022/10/mantrailing-training.jpg
ORGANIZER;CN="Linda Spahlinger":MAILTO:post@linda-spahlinger.com
END:VEVENT
BEGIN:VEVENT
DTSTART;TZID=Europe/Berlin:20250513T110000
DTEND;TZID=Europe/Berlin:20250513T130000
DTSTAMP:20260419T150219
CREATED:20250425T180032Z
LAST-MODIFIED:20250425T182954Z
UID:5167-1747134000-1747141200@linda-spahlinger.com
SUMMARY:Mantrailing - M -
DESCRIPTION:Freu dich auf:\nMantrailing Training mit jeweils 2 Mensch-Hund-Teams.\nJedes Team darf sich auf zwei individuelle Trails freuen. \nTreffpunkt:\nDen genauen Treffpunkt gebe ich dir nach deiner Anmeldung rechtzeitig per WhatsApp durch. \nDeine Anmeldung:\nBitte melde dich bis spätestens 1 Woche vorher an. \nPreis\n10er Karte 370€ (einzeln 40€ je Training)
URL:https://linda-spahlinger.com/termin/mantrailing-m-287/
LOCATION:Wechselnde Orte auf den FIldern
CATEGORIES:Mantrailing Training
ATTACH;FMTTYPE=image/jpeg:https://linda-spahlinger.com/wp-content/uploads/2022/10/mantrailing-training.jpg
ORGANIZER;CN="Linda Spahlinger":MAILTO:post@linda-spahlinger.com
END:VEVENT
BEGIN:VEVENT
DTSTART;TZID=Europe/Berlin:20250513T140000
DTEND;TZID=Europe/Berlin:20250513T160000
DTSTAMP:20260419T150219
CREATED:20250425T180018Z
LAST-MODIFIED:20250422T100553Z
UID:5165-1747144800-1747152000@linda-spahlinger.com
SUMMARY:Mantrailing - L -
DESCRIPTION:Freu dich auf:\nMantrailing Training mit jeweils 2 Mensch-Hund-Teams.\nJedes Team darf sich auf zwei individuelle Trails freuen. \nTreffpunkt:\nDen genauen Treffpunkt gebe ich dir nach deiner Anmeldung rechtzeitig per WhatsApp durch. \nDeine Anmeldung:\nBitte melde dich bis spätestens 1 Woche vorher an. \nPreis\n10er Karte 370€ (einzeln 40€ je Training)
URL:https://linda-spahlinger.com/termin/mantrailing-l-144/
LOCATION:Wechselnde Orte auf den FIldern
CATEGORIES:Mantrailing Training
ATTACH;FMTTYPE=image/jpeg:https://linda-spahlinger.com/wp-content/uploads/2022/10/mantrailing-training.jpg
ORGANIZER;CN="Linda Spahlinger":MAILTO:post@linda-spahlinger.com
END:VEVENT
BEGIN:VEVENT
DTSTART;TZID=Europe/Berlin:20250514T160000
DTEND;TZID=Europe/Berlin:20250514T180000
DTSTAMP:20260419T150219
CREATED:20250425T180041Z
LAST-MODIFIED:20250422T100802Z
UID:5169-1747238400-1747245600@linda-spahlinger.com
SUMMARY:Mantrailing - M -
DESCRIPTION:Freu dich auf:\nMantrailing Training mit jeweils 2 Mensch-Hund-Teams.\nJedes Team darf sich auf zwei individuelle Trails freuen. \nTreffpunkt:\nDen genauen Treffpunkt gebe ich dir nach deiner Anmeldung rechtzeitig per WhatsApp durch. \nDeine Anmeldung:\nBitte melde dich bis spätestens 1 Woche vorher an. \nPreis\n10er Karte 370€ (einzeln 40€ je Training)
URL:https://linda-spahlinger.com/termin/mantrailing-m-288/
LOCATION:Wechselnde Orte auf den FIldern
CATEGORIES:Mantrailing Training
ATTACH;FMTTYPE=image/jpeg:https://linda-spahlinger.com/wp-content/uploads/2022/10/mantrailing-training.jpg
ORGANIZER;CN="Linda Spahlinger":MAILTO:post@linda-spahlinger.com
END:VEVENT
BEGIN:VEVENT
DTSTART;TZID=Europe/Berlin:20250515T130000
DTEND;TZID=Europe/Berlin:20250515T150000
DTSTAMP:20260419T150219
CREATED:20250425T180047Z
LAST-MODIFIED:20250422T101149Z
UID:5171-1747314000-1747321200@linda-spahlinger.com
SUMMARY:Mantrailing - M -
DESCRIPTION:Freu dich auf:\nMantrailing Training mit jeweils 2 Mensch-Hund-Teams.\nJedes Team darf sich auf zwei individuelle Trails freuen. \nTreffpunkt:\nDen genauen Treffpunkt gebe ich dir nach deiner Anmeldung rechtzeitig per WhatsApp durch. \nDeine Anmeldung:\nBitte melde dich bis spätestens 1 Woche vorher an. \nPreis\n10er Karte 370€ (einzeln 40€ je Training)
URL:https://linda-spahlinger.com/termin/mantrailing-m-289/
LOCATION:Wechselnde Orte auf den FIldern
CATEGORIES:Mantrailing Training
ATTACH;FMTTYPE=image/jpeg:https://linda-spahlinger.com/wp-content/uploads/2022/10/mantrailing-training.jpg
ORGANIZER;CN="Linda Spahlinger":MAILTO:post@linda-spahlinger.com
END:VEVENT
BEGIN:VEVENT
DTSTART;TZID=Europe/Berlin:20250515T150000
DTEND;TZID=Europe/Berlin:20250515T170000
DTSTAMP:20260419T150219
CREATED:20250425T180052Z
LAST-MODIFIED:20250422T101016Z
UID:5173-1747321200-1747328400@linda-spahlinger.com
SUMMARY:Mantrailing - M -
DESCRIPTION:Freu dich auf:\nMantrailing Training mit jeweils 2 Mensch-Hund-Teams.\nJedes Team darf sich auf zwei individuelle Trails freuen. \nTreffpunkt:\nDen genauen Treffpunkt gebe ich dir nach deiner Anmeldung rechtzeitig per WhatsApp durch. \nDeine Anmeldung:\nBitte melde dich bis spätestens 1 Woche vorher an. \nPreis\n10er Karte 370€ (einzeln 40€ je Training)
URL:https://linda-spahlinger.com/termin/mantrailing-m-290/
LOCATION:Wechselnde Orte auf den FIldern
CATEGORIES:Mantrailing Training
ATTACH;FMTTYPE=image/jpeg:https://linda-spahlinger.com/wp-content/uploads/2022/10/mantrailing-training.jpg
ORGANIZER;CN="Linda Spahlinger":MAILTO:post@linda-spahlinger.com
END:VEVENT
BEGIN:VEVENT
DTSTART;TZID=Europe/Berlin:20250516T150000
DTEND;TZID=Europe/Berlin:20250516T170000
DTSTAMP:20260419T150219
CREATED:20250425T180031Z
LAST-MODIFIED:20250422T101855Z
UID:5178-1747407600-1747414800@linda-spahlinger.com
SUMMARY:Mantrailing - L -
DESCRIPTION:Freu dich auf:\nMantrailing Training mit jeweils 2 Mensch-Hund-Teams.\nJedes Team darf sich auf zwei individuelle Trails freuen. \nTreffpunkt:\nDen genauen Treffpunkt gebe ich dir nach deiner Anmeldung rechtzeitig per WhatsApp durch. \nDeine Anmeldung:\nBitte melde dich bis spätestens 1 Woche vorher an. \nPreis\n10er Karte 370€ (einzeln 40€ je Training)
URL:https://linda-spahlinger.com/termin/mantrailing-l-145/
LOCATION:Wechselnde Orte auf den FIldern
CATEGORIES:Mantrailing Training
ATTACH;FMTTYPE=image/jpeg:https://linda-spahlinger.com/wp-content/uploads/2022/10/mantrailing-training.jpg
ORGANIZER;CN="Linda Spahlinger":MAILTO:post@linda-spahlinger.com
END:VEVENT
BEGIN:VEVENT
DTSTART;TZID=Europe/Berlin:20250516T150000
DTEND;TZID=Europe/Berlin:20250516T170000
DTSTAMP:20260419T150219
CREATED:20250425T180042Z
LAST-MODIFIED:20250422T101529Z
UID:5176-1747407600-1747414800@linda-spahlinger.com
SUMMARY:Mantrailing - M -
DESCRIPTION:Freu dich auf:\nMantrailing Training mit jeweils 2 Mensch-Hund-Teams.\nJedes Team darf sich auf zwei individuelle Trails freuen. \nTreffpunkt:\nDen genauen Treffpunkt gebe ich dir nach deiner Anmeldung rechtzeitig per WhatsApp durch. \nDeine Anmeldung:\nBitte melde dich bis spätestens 1 Woche vorher an. \nPreis\n10er Karte 370€ (einzeln 40€ je Training)
URL:https://linda-spahlinger.com/termin/mantrailing-m-291/
LOCATION:Wechselnde Orte auf den FIldern
CATEGORIES:Mantrailing Training
ATTACH;FMTTYPE=image/jpeg:https://linda-spahlinger.com/wp-content/uploads/2022/10/mantrailing-training.jpg
ORGANIZER;CN="Linda Spahlinger":MAILTO:post@linda-spahlinger.com
END:VEVENT
BEGIN:VEVENT
DTSTART;TZID=Europe/Berlin:20250517T100000
DTEND;TZID=Europe/Berlin:20250517T120000
DTSTAMP:20260419T150219
CREATED:20250425T180052Z
LAST-MODIFIED:20250422T102121Z
UID:5180-1747476000-1747483200@linda-spahlinger.com
SUMMARY:Mantrailing - M -
DESCRIPTION:Freu dich auf:\nMantrailing Training mit jeweils 2 Mensch-Hund-Teams.\nJedes Team darf sich auf zwei individuelle Trails freuen. \nTreffpunkt:\nDen genauen Treffpunkt gebe ich dir nach deiner Anmeldung rechtzeitig per WhatsApp durch. \nDeine Anmeldung:\nBitte melde dich bis spätestens 1 Woche vorher an. \nPreis\n10er Karte 370€ (einzeln 40€ je Training)
URL:https://linda-spahlinger.com/termin/mantrailing-m-292/
LOCATION:Wechselnde Orte auf den FIldern
CATEGORIES:Mantrailing Training
ATTACH;FMTTYPE=image/jpeg:https://linda-spahlinger.com/wp-content/uploads/2022/10/mantrailing-training.jpg
ORGANIZER;CN="Linda Spahlinger":MAILTO:post@linda-spahlinger.com
END:VEVENT
BEGIN:VEVENT
DTSTART;TZID=Europe/Berlin:20250517T140000
DTEND;TZID=Europe/Berlin:20250517T160000
DTSTAMP:20260419T150219
CREATED:20250425T180043Z
LAST-MODIFIED:20250422T102242Z
UID:5182-1747490400-1747497600@linda-spahlinger.com
SUMMARY:Mantrailing - M -
DESCRIPTION:Freu dich auf:\nMantrailing Training mit jeweils 2 Mensch-Hund-Teams.\nJedes Team darf sich auf zwei individuelle Trails freuen. \nTreffpunkt:\nDen genauen Treffpunkt gebe ich dir nach deiner Anmeldung rechtzeitig per WhatsApp durch. \nDeine Anmeldung:\nBitte melde dich bis spätestens 1 Woche vorher an. \nPreis\n10er Karte 370€ (einzeln 40€ je Training)
URL:https://linda-spahlinger.com/termin/mantrailing-m-293/
LOCATION:Wechselnde Orte auf den FIldern
CATEGORIES:Mantrailing Training
ATTACH;FMTTYPE=image/jpeg:https://linda-spahlinger.com/wp-content/uploads/2022/10/mantrailing-training.jpg
ORGANIZER;CN="Linda Spahlinger":MAILTO:post@linda-spahlinger.com
END:VEVENT
BEGIN:VEVENT
DTSTART;TZID=Europe/Berlin:20250518T100000
DTEND;TZID=Europe/Berlin:20250518T120000
DTSTAMP:20260419T150219
CREATED:20250425T180039Z
LAST-MODIFIED:20250422T102410Z
UID:5184-1747562400-1747569600@linda-spahlinger.com
SUMMARY:Mantrailing - M -
DESCRIPTION:Freu dich auf:\nMantrailing Training mit jeweils 2 Mensch-Hund-Teams.\nJedes Team darf sich auf zwei individuelle Trails freuen. \nTreffpunkt:\nDen genauen Treffpunkt gebe ich dir nach deiner Anmeldung rechtzeitig per WhatsApp durch. \nDeine Anmeldung:\nBitte melde dich bis spätestens 1 Woche vorher an. \nPreis\n10er Karte 370€ (einzeln 40€ je Training)
URL:https://linda-spahlinger.com/termin/mantrailing-m-294/
LOCATION:Wechselnde Orte auf den FIldern
CATEGORIES:Mantrailing Training
ATTACH;FMTTYPE=image/jpeg:https://linda-spahlinger.com/wp-content/uploads/2022/10/mantrailing-training.jpg
ORGANIZER;CN="Linda Spahlinger":MAILTO:post@linda-spahlinger.com
END:VEVENT
BEGIN:VEVENT
DTSTART;TZID=Europe/Berlin:20250520T140000
DTEND;TZID=Europe/Berlin:20250520T140000
DTSTAMP:20260419T150219
CREATED:20250425T180053Z
LAST-MODIFIED:20250422T102624Z
UID:5188-1747749600-1747749600@linda-spahlinger.com
SUMMARY:Mantrailing - M -
DESCRIPTION:Freu dich auf:\nMantrailing Training mit jeweils 2 Mensch-Hund-Teams.\nJedes Team darf sich auf zwei individuelle Trails freuen. \nTreffpunkt:\nDen genauen Treffpunkt gebe ich dir nach deiner Anmeldung rechtzeitig per WhatsApp durch. \nDeine Anmeldung:\nBitte melde dich bis spätestens 1 Woche vorher an. \nPreis\n10er Karte 370€ (einzeln 40€ je Training)
URL:https://linda-spahlinger.com/termin/mantrailing-m-295/
LOCATION:Wechselnde Orte auf den FIldern
CATEGORIES:Mantrailing Training
ATTACH;FMTTYPE=image/jpeg:https://linda-spahlinger.com/wp-content/uploads/2022/10/mantrailing-training.jpg
ORGANIZER;CN="Linda Spahlinger":MAILTO:post@linda-spahlinger.com
END:VEVENT
BEGIN:VEVENT
DTSTART;TZID=Europe/Berlin:20250520T170000
DTEND;TZID=Europe/Berlin:20250520T190000
DTSTAMP:20260419T150219
CREATED:20250425T180032Z
LAST-MODIFIED:20250422T102801Z
UID:5190-1747760400-1747767600@linda-spahlinger.com
SUMMARY:Mantrailing - M -
DESCRIPTION:Freu dich auf:\nMantrailing Training mit jeweils 2 Mensch-Hund-Teams.\nJedes Team darf sich auf zwei individuelle Trails freuen. \nTreffpunkt:\nDen genauen Treffpunkt gebe ich dir nach deiner Anmeldung rechtzeitig per WhatsApp durch. \nDeine Anmeldung:\nBitte melde dich bis spätestens 1 Woche vorher an. \nPreis\n10er Karte 370€ (einzeln 40€ je Training)
URL:https://linda-spahlinger.com/termin/mantrailing-m-296/
LOCATION:Wechselnde Orte auf den FIldern
CATEGORIES:Mantrailing Training
ATTACH;FMTTYPE=image/jpeg:https://linda-spahlinger.com/wp-content/uploads/2022/10/mantrailing-training.jpg
ORGANIZER;CN="Linda Spahlinger":MAILTO:post@linda-spahlinger.com
END:VEVENT
BEGIN:VEVENT
DTSTART;TZID=Europe/Berlin:20250521T100000
DTEND;TZID=Europe/Berlin:20250521T120000
DTSTAMP:20260419T150219
CREATED:20250425T180054Z
LAST-MODIFIED:20250422T103026Z
UID:5192-1747821600-1747828800@linda-spahlinger.com
SUMMARY:Mantrailing - M -
DESCRIPTION:Freu dich auf:\nMantrailing Training mit jeweils 2 Mensch-Hund-Teams.\nJedes Team darf sich auf zwei individuelle Trails freuen. \nTreffpunkt:\nDen genauen Treffpunkt gebe ich dir nach deiner Anmeldung rechtzeitig per WhatsApp durch. \nDeine Anmeldung:\nBitte melde dich bis spätestens 1 Woche vorher an. \nPreis\n10er Karte 370€ (einzeln 40€ je Training)
URL:https://linda-spahlinger.com/termin/mantrailing-m-297/
LOCATION:Wechselnde Orte auf den FIldern
CATEGORIES:Mantrailing Training
ATTACH;FMTTYPE=image/jpeg:https://linda-spahlinger.com/wp-content/uploads/2022/10/mantrailing-training.jpg
ORGANIZER;CN="Linda Spahlinger":MAILTO:post@linda-spahlinger.com
END:VEVENT
END:VCALENDAR